BEGIN:VCALENDAR
PRODID:NingEventWidget-v1
VERSION:2.0
METHOD:PUBLISH
BEGIN:VTIMEZONE
TZID:Europe/London
X-LIC-LOCATION:Europe/London
BEGIN:DAYLIGHT
TZOFFSETFROM:+0000
TZOFFSETTO:+0100
TZNAME:BST
DTSTART:19700329T010000
RRULE:FREQ=YEARLY;BYMONTH=3;BYDAY=-1SU
END:DAYLIGHT
BEGIN:STANDARD
TZOFFSETFROM:+0100
TZOFFSETTO:+0000
TZNAME:GMT
DTSTART:19701025T020000
RRULE:FREQ=YEARLY;BYMONTH=10;BYDAY=-1SU
END:STANDARD
END:VTIMEZONE
BEGIN:VEVENT
UID:6278630:Event:46773
DTSTAMP:20260426T013257Z
SUMMARY:Emma Kirkby concert for Pinkham Way campaign
DESCRIPTION:Internationally renowned soprano and early music specialis
 t, Dame Emma Kirkby will be performing at St Andrew's Church, Alexandr
 a Park Road, N10 2DD on Sunday 7 October at 4pm. Tickets are £15 for 
 adults and £10 for under-£16s. All money raised will go towards the 
 campaign to stop the building of one of Europe's biggest waste process
 ing plants at Pinkham Way, N10. To find out more and book tickets clic
 k on the following link:\nhttp://www.pinkhamwayalliance.com/#/next-eve
 nt/4565559459 \nThanks\nSakina\n\nFor more information visit https://b
 owesandbounds.org/events/emma-kirkby-concert-for-pinkham-way-campaign
DTSTART;TZID=Europe/London:20121007T160000
DTEND;TZID=Europe/London:20121007T180000
CATEGORIES:fundraiser
LOCATION:St Andrew's Church
WEBSITE:
URL:
CONTACT:
ORGANIZER;CN="Sakina Chenot":https://bowesandbounds.org/profile/Sakina
 Chenot
ATTACH;FMTTYPE="image/jpeg":http://storage.ning.com/topology/rest/1.0/
 file/get/2287238395?profile=original
ATTENDEE;ROLE=REQ-PARTICIPANT;PARTSTAT=ACCEPTED;RSVP=TRUE;CN="Sakina C
 henot":https://bowesandbounds.org/profile/SakinaChenot
END:VEVENT
END:VCALENDAR
