BEGIN:VCALENDAR
PRODID:NingEventWidget-v1
VERSION:2.0
METHOD:PUBLISH
BEGIN:VTIMEZONE
TZID:Europe/London
X-LIC-LOCATION:Europe/London
BEGIN:DAYLIGHT
TZOFFSETFROM:+0000
TZOFFSETTO:+0100
TZNAME:BST
DTSTART:19700329T010000
RRULE:FREQ=YEARLY;BYMONTH=3;BYDAY=-1SU
END:DAYLIGHT
BEGIN:STANDARD
TZOFFSETFROM:+0100
TZOFFSETTO:+0000
TZNAME:GMT
DTSTART:19701025T020000
RRULE:FREQ=YEARLY;BYMONTH=10;BYDAY=-1SU
END:STANDARD
END:VTIMEZONE
BEGIN:VEVENT
UID:6278630:Event:22902
DTSTAMP:20260420T205236Z
SUMMARY:Enfield Autumn Show
DESCRIPTION:Enfield's largest annual community festival returns.\nThis
  year the organisers promise a wonderful weekend filled with cultural 
 and sporting delights.\nTry something new, featuring boules and board 
 games for the first time.\nThe village green will feature horticulture
 , world food, tea, kids activities, small farm animals, loads of stall
 s, ballroom dancing, live world music, dance stage, and local talent.\
 nThis year's headliners are Pauline Black and the Selectors.\nWhy not 
 enter some home grown produce /cookery or home made crafts - the  Hor
 ticultural Schedule 2011explains how.\n£3.00 Adults, Concessions £2.
 00, 16 and under FREE!\n\nFor more information visit https://bowesandb
 ounds.org/events/enfield-autumn-show
DTSTART;TZID=Europe/London:20110903T103000
DTEND;TZID=Europe/London:20110904T180000
CATEGORIES:enfield, town, show
LOCATION:\"Enfield Town Park\"
WEBSITE:http://maps.google.co.uk/maps/place?q=enfield+%22town+park%22&
 hl=en&cid=3845278489326908247
URL:http://maps.google.co.uk/maps/place?q=enfield+%22town+park%22&hl=e
 n&cid=3845278489326908247
CONTACT:
ORGANIZER;CN="Richard McKeever":https://bowesandbounds.org/profile/3hw
 xkqhdde8gc
ATTACH;FMTTYPE="image/jpeg":http://storage.ning.com/topology/rest/1.0/
 file/get/2287228841?profile=original
ATTENDEE;ROLE=REQ-PARTICIPANT;PARTSTAT=ACCEPTED;RSVP=TRUE;CN="Richard 
 McKeever":https://bowesandbounds.org/profile/3hwxkqhdde8gc
END:VEVENT
END:VCALENDAR
