BEGIN:VCALENDAR
PRODID:NingEventWidget-v1
VERSION:2.0
METHOD:PUBLISH
BEGIN:VTIMEZONE
TZID:Europe/London
X-LIC-LOCATION:Europe/London
BEGIN:DAYLIGHT
TZOFFSETFROM:+0000
TZOFFSETTO:+0100
TZNAME:BST
DTSTART:19700329T010000
RRULE:FREQ=YEARLY;BYMONTH=3;BYDAY=-1SU
END:DAYLIGHT
BEGIN:STANDARD
TZOFFSETFROM:+0100
TZOFFSETTO:+0000
TZNAME:GMT
DTSTART:19701025T020000
RRULE:FREQ=YEARLY;BYMONTH=10;BYDAY=-1SU
END:STANDARD
END:VTIMEZONE
BEGIN:VEVENT
UID:6278630:Event:90109
DTSTAMP:20260422T194506Z
SUMMARY:ENFIELD: Bowes Ward Forum
DESCRIPTION:Do NOT be shy if you are a Haringey Resident. ALL welcomeÂ
  \nIf you have a specific gripe please notify the local Councillors BE
 FORE the meeting,Â Click here\n\nFor more information visit https://bo
 wesandbounds.org/events/enfield-bowes-ward-forum
DTSTART;TZID=Europe/London:20150219T191500
DTEND;TZID=Europe/London:20150219T213000
CATEGORIES:"forum consultation"
LOCATION:democracy, forum
WEBSITE:http://www.trinityatbowes.co.uk/
URL:http://www.trinityatbowes.co.uk/
CONTACT:020 8888 2797 bookings
ORGANIZER;CN="Donald Smith":https://bowesandbounds.org/profile/DonaldS
 mith
ATTACH;FMTTYPE="image/jpeg":http://storage.ning.com/topology/rest/1.0/
 file/get/2063514585?profile=original
ATTENDEE;ROLE=REQ-PARTICIPANT;PARTSTAT=ACCEPTED;RSVP=TRUE;CN="Donald S
 mith":https://bowesandbounds.org/profile/DonaldSmith
END:VEVENT
END:VCALENDAR
