BEGIN:VCALENDAR
PRODID:NingEventWidget-v1
VERSION:2.0
METHOD:PUBLISH
BEGIN:VTIMEZONE
TZID:Europe/London
X-LIC-LOCATION:Europe/London
BEGIN:DAYLIGHT
TZOFFSETFROM:+0000
TZOFFSETTO:+0100
TZNAME:BST
DTSTART:19700329T010000
RRULE:FREQ=YEARLY;BYMONTH=3;BYDAY=-1SU
END:DAYLIGHT
BEGIN:STANDARD
TZOFFSETFROM:+0100
TZOFFSETTO:+0000
TZNAME:GMT
DTSTART:19701025T020000
RRULE:FREQ=YEARLY;BYMONTH=10;BYDAY=-1SU
END:STANDARD
END:VTIMEZONE
BEGIN:VEVENT
UID:6278630:Event:41740
DTSTAMP:20260424T113711Z
SUMMARY:Enfield Festival of Cycling 2012
DESCRIPTION:Calling all bike riders, Enfield Council is holding the En
 field Festival of Cycling on Sunday 24 June with a fun packed day of e
 vents and activities to enjoy.\nVisitors to the event at Enfield Town 
 Park between 11am and 4pm will be able to try out tandems, fun and unu
 sual bikes as well as attractions such as face painting, free cycle ta
 gging, health checks, music a smoothie bar and HGV driver awareness tr
 aining, spinning classes and a cycle simulator.\n\nEveryone will get a
  free water bottle and free bike check ups will also be available, so 
 don’t forget to bring your bike.  This is a fun free event for all t
 he family to enjoy.\nBring Your Bike!\n\nFor more information visit ht
 tps://bowesandbounds.org/events/enfield-festival-of-cycling-2012
DTSTART;TZID=Europe/London:20120624T110000
DTEND;TZID=Europe/London:20120624T160000
CATEGORIES:cycling
LOCATION:Enfield Town Park
WEBSITE:http://maps.google.co.uk/maps?hl=&q=enfield+town+park&sourceid
 =navclient-ff&rlz=1B3MOZA_en-GBGB361GB361&ie=UTF-8
URL:http://maps.google.co.uk/maps?hl=&q=enfield+town+park&sourceid=nav
 client-ff&rlz=1B3MOZA_en-GBGB361GB361&ie=UTF-8
CONTACT:
ORGANIZER:LB Enfield
ATTACH;FMTTYPE="image/jpeg":http://storage.ning.com/topology/rest/1.0/
 file/get/2287224371?profile=original
ATTENDEE;ROLE=REQ-PARTICIPANT;PARTSTAT=ACCEPTED;RSVP=TRUE;CN="Richard 
 McKeever":https://bowesandbounds.org/profile/3hwxkqhdde8gc
END:VEVENT
END:VCALENDAR
