BEGIN:VCALENDAR
PRODID:NingEventWidget-v1
VERSION:2.0
METHOD:PUBLISH
BEGIN:VTIMEZONE
TZID:Europe/London
X-LIC-LOCATION:Europe/London
BEGIN:DAYLIGHT
TZOFFSETFROM:+0000
TZOFFSETTO:+0100
TZNAME:BST
DTSTART:19700329T010000
RRULE:FREQ=YEARLY;BYMONTH=3;BYDAY=-1SU
END:DAYLIGHT
BEGIN:STANDARD
TZOFFSETFROM:+0100
TZOFFSETTO:+0000
TZNAME:GMT
DTSTART:19701025T020000
RRULE:FREQ=YEARLY;BYMONTH=10;BYDAY=-1SU
END:STANDARD
END:VTIMEZONE
BEGIN:VEVENT
UID:6278630:Event:100435
DTSTAMP:20260425T043746Z
SUMMARY:Enfield Mayor's Charity Fun Run
DESCRIPTION:This year's Mayor's Charity Fun Run and Walk will take pla
 ce on Sunday 20th September at Forty Hall, Enfield, EN2 9HA\nA fun day
  out for runners, walkers, families and friends. Events include: 10k f
 un run, 3k fun run and 3k walk.\nThis year's Mayor's Charity Fun Run a
 nd Walk will take place on Sunday 20th September at Forty Hall, Enfiel
 d, EN2 9HA\nA fun day out for runners, walkers, families and friends. 
 Events include: 10k fun run, 3k fun run and 3k walk.\nEntries will not
  be taken after 10.00am on Friday 18th September 2015 and there are st
 rictly no \"on the day\" registrations.\nRegistration is strictly onl
 ine, CLICK HERE\n\nFor more information visit https://bowesandbounds.o
 rg/events/enfield-mayor-s-charity-fun-run
DTSTART;TZID=Europe/London:20150920T093000
DTEND;TZID=Europe/London:20150920T130000
CATEGORIES:"fun run", charity, fundraiser
LOCATION:Forty Hall, Enfield, EN2 9HA
WEBSITE:
URL:
CONTACT:
ORGANIZER;CN="Donald Smith":https://bowesandbounds.org/profile/DonaldS
 mith
ATTACH;FMTTYPE="image/jpeg":
END:VEVENT
END:VCALENDAR
