BEGIN:VCALENDAR
PRODID:NingEventWidget-v1
VERSION:2.0
METHOD:PUBLISH
BEGIN:VTIMEZONE
TZID:Europe/London
X-LIC-LOCATION:Europe/London
BEGIN:DAYLIGHT
TZOFFSETFROM:+0000
TZOFFSETTO:+0100
TZNAME:BST
DTSTART:19700329T010000
RRULE:FREQ=YEARLY;BYMONTH=3;BYDAY=-1SU
END:DAYLIGHT
BEGIN:STANDARD
TZOFFSETFROM:+0100
TZOFFSETTO:+0000
TZNAME:GMT
DTSTART:19701025T020000
RRULE:FREQ=YEARLY;BYMONTH=10;BYDAY=-1SU
END:STANDARD
END:VTIMEZONE
BEGIN:VEVENT
UID:6278630:Event:88682
DTSTAMP:20260419T132744Z
SUMMARY:Enfield Methodist Circuit: Induction Service
DESCRIPTION:The evening service on Sunday 4th January 2015 gathering 
 at 18:15 for 18:30 is to be a Circuit Service led by Rev Dr Stuart Jor
 dan <one of the joint chairs of the London District of the Methodist
  Church> to recognise Rev Louise Morrissey\n\nas Circuit Superintend
 ent of Enfield's Circuit of Methodist  Churches; and Rev Baroness Kat
 hleen Richardson as having particular pastoral care of Southgate Metho
 dist Church, The Bourne N14\nTrinity Church was formed in 1983 by the 
 union of Enfield Methodist Church (1890) and St Paul's United Reformed
  Church (1902) There is a membership of about 200 - you do not have t
 o be a member to attend! All will be welcome\nA passenger lift is avai
 lable at the side of the front entrance for parishioners to reach th
 e church sanctuary and the church adjoins the Enfield Town Little Park
  Gardens Bus Stand\n\nFor more information visit https://bowesandbound
 s.org/events/enfield-methodist-circuit-induction-service
DTSTART;TZID=Europe/London:20150104T181500
DTEND;TZID=Europe/London:20150104T210000
CATEGORIES:church
LOCATION:Trinity Church, Enfield Methodist & United Reformed
WEBSITE:https://sites.google.com/site/trinitychurchenfield/
URL:https://sites.google.com/site/trinitychurchenfield/
CONTACT:020 8363 5745
ORGANIZER;CN="Donald Smith":https://bowesandbounds.org/profile/DonaldS
 mith
ATTACH;FMTTYPE="image/jpeg":http://storage.ning.com/topology/rest/1.0/
 file/get/2287276543?profile=original
ATTENDEE;ROLE=REQ-PARTICIPANT;PARTSTAT=ACCEPTED;RSVP=TRUE;CN="Donald S
 mith":https://bowesandbounds.org/profile/DonaldSmith
END:VEVENT
END:VCALENDAR
