BEGIN:VCALENDAR
PRODID:NingEventWidget-v1
VERSION:2.0
METHOD:PUBLISH
BEGIN:VTIMEZONE
TZID:Europe/London
X-LIC-LOCATION:Europe/London
BEGIN:DAYLIGHT
TZOFFSETFROM:+0000
TZOFFSETTO:+0100
TZNAME:BST
DTSTART:19700329T010000
RRULE:FREQ=YEARLY;BYMONTH=3;BYDAY=-1SU
END:DAYLIGHT
BEGIN:STANDARD
TZOFFSETFROM:+0100
TZOFFSETTO:+0000
TZNAME:GMT
DTSTART:19701025T020000
RRULE:FREQ=YEARLY;BYMONTH=10;BYDAY=-1SU
END:STANDARD
END:VTIMEZONE
BEGIN:VEVENT
UID:6278630:Event:97686
DTSTAMP:20260421T063733Z
SUMMARY:Enfield Over 50s forum: how can Healthwatch and the Over-50s f
 orum work together
DESCRIPTION:Debra Fowler of HealthWatch Enfield asks how can Healthw
 atch Enfield and the Enfield Borough Over-50s forum work together to i
 mprove local health and social care services? You can find out about 
 Healthwatch Enfield and what has been achieved so far; and give your e
 xperiences of local health and social care services, the issues which 
 concern you, and your ideas for how services can be improved.\n\nFor m
 ore information visit https://bowesandbounds.org/events/enfield-over-5
 0s-forum-how-can-healthwatch-and-the-over-50s-forum
DTSTART;TZID=Europe/London:20150728T060000
DTEND;TZID=Europe/London:20150728T120000
CATEGORIES:over50s, healthwatch
LOCATION:Civic Centre Enfield
WEBSITE:http://www.enfieldover50sforum.org.uk/
URL:http://www.enfieldover50sforum.org.uk/
CONTACT:
ORGANIZER;CN="Donald Smith":https://bowesandbounds.org/profile/DonaldS
 mith
ATTACH;FMTTYPE="image/jpeg":
ATTENDEE;ROLE=REQ-PARTICIPANT;PARTSTAT=ACCEPTED;RSVP=TRUE;CN="Donald S
 mith":https://bowesandbounds.org/profile/DonaldSmith
END:VEVENT
END:VCALENDAR
