BEGIN:VCALENDAR
PRODID:NingEventWidget-v1
VERSION:2.0
METHOD:PUBLISH
BEGIN:VTIMEZONE
TZID:Europe/London
X-LIC-LOCATION:Europe/London
BEGIN:DAYLIGHT
TZOFFSETFROM:+0000
TZOFFSETTO:+0100
TZNAME:BST
DTSTART:19700329T010000
RRULE:FREQ=YEARLY;BYMONTH=3;BYDAY=-1SU
END:DAYLIGHT
BEGIN:STANDARD
TZOFFSETFROM:+0100
TZOFFSETTO:+0000
TZNAME:GMT
DTSTART:19701025T020000
RRULE:FREQ=YEARLY;BYMONTH=10;BYDAY=-1SU
END:STANDARD
END:VTIMEZONE
BEGIN:VEVENT
UID:6278630:Event:121820
DTSTAMP:20260419T201932Z
SUMMARY:ENFIELD: Southgate Green Ward Forum
DESCRIPTION:This meeting of the Southgate Green Ward Forum will be dis
 cussing the proposal to declare London A National Park City - and is s
 eeking the support of Southgate Green Ward for the initiative.\n\nFind
  out more about the project\nAsk your councillors to support the proje
 ct\n\n\nAn agenda will be made available on the LB Enfield website bef
 ore the meeting\n\nFor more information visit https://bowesandbounds.o
 rg/events/enfield-southgate-green-ward-forum-1
DTSTART;TZID=Europe/London:20170314T191500
DTEND;TZID=Europe/London:20170314T204500
CATEGORIES:"forum consultation"
LOCATION:Garfield School
WEBSITE:https://governance.enfield.gov.uk/ieListDocuments.aspx?CId=683
 &MId=10046&Ver=4&zTS=undefined
URL:https://governance.enfield.gov.uk/ieListDocuments.aspx?CId=683&MId
 =10046&Ver=4&zTS=undefined
CONTACT:
ORGANIZER:Administrator
ATTACH;FMTTYPE="image/jpeg":http://storage.ning.com/topology/rest/1.0/
 file/get/2063514585?profile=original
ATTENDEE;ROLE=REQ-PARTICIPANT;PARTSTAT=ACCEPTED;RSVP=TRUE;CN="Richard 
 McKeever":https://bowesandbounds.org/profile/3hwxkqhdde8gc
END:VEVENT
END:VCALENDAR
