BEGIN:VCALENDAR
PRODID:NingEventWidget-v1
VERSION:2.0
METHOD:PUBLISH
BEGIN:VTIMEZONE
TZID:Europe/London
X-LIC-LOCATION:Europe/London
BEGIN:DAYLIGHT
TZOFFSETFROM:+0000
TZOFFSETTO:+0100
TZNAME:BST
DTSTART:19700329T010000
RRULE:FREQ=YEARLY;BYMONTH=3;BYDAY=-1SU
END:DAYLIGHT
BEGIN:STANDARD
TZOFFSETFROM:+0100
TZOFFSETTO:+0000
TZNAME:GMT
DTSTART:19701025T020000
RRULE:FREQ=YEARLY;BYMONTH=10;BYDAY=-1SU
END:STANDARD
END:VTIMEZONE
BEGIN:VEVENT
UID:6278630:Event:104335
DTSTAMP:20260424T064919Z
SUMMARY:Enfield Town Christmas Parade and Fireworks
DESCRIPTION:\n\n\n\n\nEvents kick off with the Frost Fair and the Whit
 ewebbs Museum exhibition of vintage Cars in Enfield Town Centre at 12p
 m. There’s music at The Dugdale Centre from 2pm, Live Bands in Marke
 t House from 3pm and North London Brass outside the George from 4.30pm
 .\nThe Parade leaves the Civic Centre in Silver Street at 4pm arriving
  back in the Town Centre on Church Street at around 5.30pm\n\nTree Lig
 hting at about 5.30pm; Fireworks at 5.50pm\n\nFor more information vis
 it https://bowesandbounds.org/events/enfield-town-christmas-parade-and
 -fireworks
DTSTART;TZID=Europe/London:20151129T120000
DTEND;TZID=Europe/London:20151129T190000
CATEGORIES:parade, fireworks
LOCATION:Enfield Town
WEBSITE:http://www.enfield.gov.uk/events/event/3080/enfield_christmas_
 parade_of_light
URL:http://www.enfield.gov.uk/events/event/3080/enfield_christmas_para
 de_of_light
CONTACT:
ORGANIZER;CN="Donald Smith":https://bowesandbounds.org/profile/DonaldS
 mith
ATTACH;FMTTYPE="image/jpeg":
ATTENDEE;ROLE=REQ-PARTICIPANT;PARTSTAT=ACCEPTED;RSVP=TRUE;CN="Donald S
 mith":https://bowesandbounds.org/profile/DonaldSmith
END:VEVENT
END:VCALENDAR
