BEGIN:VCALENDAR
PRODID:NingEventWidget-v1
VERSION:2.0
METHOD:PUBLISH
BEGIN:VTIMEZONE
TZID:Europe/London
X-LIC-LOCATION:Europe/London
BEGIN:DAYLIGHT
TZOFFSETFROM:+0000
TZOFFSETTO:+0100
TZNAME:BST
DTSTART:19700329T010000
RRULE:FREQ=YEARLY;BYMONTH=3;BYDAY=-1SU
END:DAYLIGHT
BEGIN:STANDARD
TZOFFSETFROM:+0100
TZOFFSETTO:+0000
TZNAME:GMT
DTSTART:19701025T020000
RRULE:FREQ=YEARLY;BYMONTH=10;BYDAY=-1SU
END:STANDARD
END:VTIMEZONE
BEGIN:VEVENT
UID:6278630:Event:49921
DTSTAMP:20260419T125152Z
SUMMARY:Enfield Town Parade of Lights
DESCRIPTION:The Parade of Light, marking the turning-on of Enfield Tow
 n's Christmas lights will take place on Sunday, November 25, from 4pm.
 \nThis is the second year of the parade which last winter attracted mo
 re than 1,000 people and raised £1,355 for charity.  This parade will
  include colourful floats and characters last seen at the Mayor of Lon
 don's Thames Festival  Meet at Enfield Civic Centre in Silver Street t
 o process to Baker Street, through Lancaster Road, Chase Side, before 
 finishing at Church Street.  Enfield Town Centre shops are sponsoring 
 the event which will raise money for the Mayor of Enfield Charitable T
 rust, Nightingale Cancer Support Centre, and the Borough of Enfield Vo
 luntary Association for the Disabled.\n\nFor more information visit ht
 tps://bowesandbounds.org/events/enfield-town-parade-of-lights
DTSTART;TZID=Europe/London:20121125T160000
DTEND;TZID=Europe/London:20121125T171500
CATEGORIES:parade, festival, christmas
LOCATION:Enfield Civic Centre
WEBSITE:
URL:
CONTACT:
ORGANIZER:Adminstrator
ATTACH;FMTTYPE="image/jpeg":http://storage.ning.com/topology/rest/1.0/
 file/get/2287240112?profile=original
ATTENDEE;ROLE=REQ-PARTICIPANT;PARTSTAT=ACCEPTED;RSVP=TRUE;CN="Richard 
 McKeever":https://bowesandbounds.org/profile/3hwxkqhdde8gc
END:VEVENT
END:VCALENDAR
