BEGIN:VCALENDAR
PRODID:NingEventWidget-v1
VERSION:2.0
METHOD:PUBLISH
BEGIN:VTIMEZONE
TZID:Europe/London
X-LIC-LOCATION:Europe/London
BEGIN:DAYLIGHT
TZOFFSETFROM:+0000
TZOFFSETTO:+0100
TZNAME:BST
DTSTART:19700329T010000
RRULE:FREQ=YEARLY;BYMONTH=3;BYDAY=-1SU
END:DAYLIGHT
BEGIN:STANDARD
TZOFFSETFROM:+0100
TZOFFSETTO:+0000
TZNAME:GMT
DTSTART:19701025T020000
RRULE:FREQ=YEARLY;BYMONTH=10;BYDAY=-1SU
END:STANDARD
END:VTIMEZONE
BEGIN:VEVENT
UID:6278630:Event:116031
DTSTAMP:20260425T043621Z
SUMMARY:Enfield Transport User Group
DESCRIPTION:All Enfield residents are welcome. The first part will be 
 the Annual General Meeting (this should last approximately 15-20 minut
 es) and this will be followed by the general meeting. The Minutes of t
 he last meeting and Agenda will be available nearer to the time of the
  meeting and will be sent to everyone who has attended the last two me
 etings. Please contact ETUG on enfieldtransportusergroup@gmail.com i
 f you have any item you would like to see discussed or - for those who
  have not attended the previous two meetings - if you would like to be
  sent a copy of the agenda and minutes.\n\nFor more information visit 
 https://bowesandbounds.org/events/enfield-transport-user-group-1
DTSTART;TZID=Europe/London:20160901T181500
DTEND;TZID=Europe/London:20160901T203000
CATEGORIES:transport_users
LOCATION:Civic Centre (Room6)
WEBSITE:
URL:
CONTACT:
ORGANIZER;CN="Donald Smith":https://bowesandbounds.org/profile/DonaldS
 mith
ATTACH;FMTTYPE="image/jpeg":
ATTENDEE;ROLE=REQ-PARTICIPANT;PARTSTAT=ACCEPTED;RSVP=TRUE;CN="Donald S
 mith":https://bowesandbounds.org/profile/DonaldSmith
END:VEVENT
END:VCALENDAR
