BEGIN:VCALENDAR
PRODID:NingEventWidget-v1
VERSION:2.0
METHOD:PUBLISH
BEGIN:VTIMEZONE
TZID:Europe/London
X-LIC-LOCATION:Europe/London
BEGIN:DAYLIGHT
TZOFFSETFROM:+0000
TZOFFSETTO:+0100
TZNAME:BST
DTSTART:19700329T010000
RRULE:FREQ=YEARLY;BYMONTH=3;BYDAY=-1SU
END:DAYLIGHT
BEGIN:STANDARD
TZOFFSETFROM:+0100
TZOFFSETTO:+0000
TZNAME:GMT
DTSTART:19701025T020000
RRULE:FREQ=YEARLY;BYMONTH=10;BYDAY=-1SU
END:STANDARD
END:VTIMEZONE
BEGIN:VEVENT
UID:6278630:Event:125792
DTSTAMP:20260425T003116Z
SUMMARY:English Language and Sightseeing Tour
DESCRIPTION:DATES: 11 September - 4 DecemberÂ Â  (No classes during ha
 lf term: 23- 29 October)Â   DAYS: MondaysÂ   TIMES: 2-5pmÂ Â   VENUE: 
 Gabriella English Language School, Brownlow Road, London N11  PRICES:Â
   EARLY BIRD PRICE: Â£37.50 per session (book by 31 August)Â   STANDAR
 D PRICE: Â£45 per sessionÂ \nTourist attractions include British Museu
 m, Covent Garden Market, National Portrait Gallery, Trafalgar Square, 
 London Eye and more!\nSession includes English Class and Guided Tour. 
 For more info / to book: Call Sureka on 07984 136 961 or email gabriel
 la.englishschool@gmail.com.\n\nFor more information visit https://bowe
 sandbounds.org/events/english-language-amp-sightseeing-tour
DTSTART;TZID=Europe/London:20170814T140000
DTEND;TZID=Europe/London:20170828T170000
CATEGORIES:learn, english, sightseeing, guided, tour, london, monday, 
 all, levels, a1, a2, b1, b2, c1, c2
LOCATION:Gabriella English Language School
WEBSITE:https://www.meetup.com/Learn-English-in-North-London/
URL:https://www.meetup.com/Learn-English-in-North-London/
CONTACT:07984 136 961
ORGANIZER;CN="Sureka Fernando":https://bowesandbounds.org/profile/Sure
 kaFernando
ATTACH;FMTTYPE="image/jpeg":http://storage.ning.com/topology/rest/1.0/
 file/get/2287318349?profile=original
ATTENDEE;ROLE=REQ-PARTICIPANT;PARTSTAT=ACCEPTED;RSVP=TRUE;CN="Sureka F
 ernando":https://bowesandbounds.org/profile/SurekaFernando
END:VEVENT
END:VCALENDAR
