BEGIN:VCALENDAR
PRODID:NingEventWidget-v1
VERSION:2.0
METHOD:PUBLISH
BEGIN:VTIMEZONE
TZID:Europe/London
X-LIC-LOCATION:Europe/London
BEGIN:DAYLIGHT
TZOFFSETFROM:+0000
TZOFFSETTO:+0100
TZNAME:BST
DTSTART:19700329T010000
RRULE:FREQ=YEARLY;BYMONTH=3;BYDAY=-1SU
END:DAYLIGHT
BEGIN:STANDARD
TZOFFSETFROM:+0100
TZOFFSETTO:+0000
TZNAME:GMT
DTSTART:19701025T020000
RRULE:FREQ=YEARLY;BYMONTH=10;BYDAY=-1SU
END:STANDARD
END:VTIMEZONE
BEGIN:VEVENT
UID:6278630:Event:122722
DTSTAMP:20260419T140135Z
SUMMARY:English Language & Sightseeing
DESCRIPTION:NEW! ENGLISH AND SIGHTSEEING COURSES at Gabriella English 
 Language School!\nJoin us to visit the British Museum and learn Englis
 h as you see the sights. Our English and Sightseeing tours include an 
 English class and a guided tour.\nTourist attractions include British 
 Museum, Covent Garden Market, National Portrait Gallery, Trafalgar Squ
 are, London Eye and more!\nEvery Monday, 10.30am-1pm. Save £20 when y
 ou book in May, 2017. Just £37.50!\nCall Sureka on 07984 136 961 or e
 mail gabriella.englishschool@gmail.com for more info.\n\nFor more info
 rmation visit https://bowesandbounds.org/events/english-language-sight
 seeing
DTSTART;TZID=Europe/London:20170501T103000
DTEND;TZID=Europe/London:20170501T130000
CATEGORIES:learn, english, classes, london, courses, sightseeing, guid
 ed, tour
LOCATION:British Museum  *Meet at Russell Square Tube Station*
WEBSITE:https://www.meetup.com/Learn-English-in-North-London/events/23
 8753029/
URL:https://www.meetup.com/Learn-English-in-North-London/events/238753
 029/
CONTACT:07984 136 961
ORGANIZER;CN="Sureka Fernando":https://bowesandbounds.org/profile/Sure
 kaFernando
ATTACH;FMTTYPE="image/jpeg":http://storage.ning.com/topology/rest/1.0/
 file/get/2287318349?profile=original
ATTENDEE;ROLE=REQ-PARTICIPANT;PARTSTAT=ACCEPTED;RSVP=TRUE;CN="Sureka F
 ernando":https://bowesandbounds.org/profile/SurekaFernando
END:VEVENT
END:VCALENDAR
