BEGIN:VCALENDAR
PRODID:NingEventWidget-v1
VERSION:2.0
METHOD:PUBLISH
BEGIN:VTIMEZONE
TZID:Europe/London
X-LIC-LOCATION:Europe/London
BEGIN:DAYLIGHT
TZOFFSETFROM:+0000
TZOFFSETTO:+0100
TZNAME:BST
DTSTART:19700329T010000
RRULE:FREQ=YEARLY;BYMONTH=3;BYDAY=-1SU
END:DAYLIGHT
BEGIN:STANDARD
TZOFFSETFROM:+0100
TZOFFSETTO:+0000
TZNAME:GMT
DTSTART:19701025T020000
RRULE:FREQ=YEARLY;BYMONTH=10;BYDAY=-1SU
END:STANDARD
END:VTIMEZONE
BEGIN:VEVENT
UID:6278630:Event:91811
DTSTAMP:20260419T150015Z
SUMMARY:Evening Bat Walk
DESCRIPTION:Enter the mysterious and fascinating world of bats!  Sett
 ing out at dusk, you will be led by experts from the North London Bat 
 Group to get a closer look at these fascinating creatures as they hunt
  in Trent Park. Bat detectors will enable you to hear the ultrasonic e
 cholocation calls these amazing mammals use to navigate and find their
  insect prey in the dark!\nMeet 9.00pm at the main car park near the C
 ockfosters Road entrance (approx. 11.00pm finish).  Bring a Torch. No
  need to book.  Distance: no more than 4 miles. The main entrance wil
 l be open after the event, so feel free to use the car parking facilit
 ies.\n\nFor more information visit https://bowesandbounds.org/events/e
 vening-bat-walk-2
DTSTART;TZID=Europe/London:20150712T210000
DTEND;TZID=Europe/London:20150712T230000
CATEGORIES:free, guided, walk
LOCATION:Trent Park
WEBSITE:http://www.enfield.gov.uk/downloads/file/11164/trent_park_guid
 ed_walks_2015
URL:http://www.enfield.gov.uk/downloads/file/11164/trent_park_guided_w
 alks_2015
CONTACT:
ORGANIZER;CN="Suzanne Linsey":https://bowesandbounds.org/profile/Suzan
 neLinsey
ATTACH;FMTTYPE="image/jpeg":http://storage.ning.com/topology/rest/1.0/
 file/get/2287282528?profile=original
ATTENDEE;ROLE=REQ-PARTICIPANT;PARTSTAT=ACCEPTED;RSVP=TRUE;CN="Suzanne 
 Linsey":https://bowesandbounds.org/profile/SuzanneLinsey
ATTENDEE;ROLE=REQ-PARTICIPANT;PARTSTAT=TENTATIVE;RSVP=TRUE;CN="Andrew 
 Irvine":https://bowesandbounds.org/profile/AndrewIrvine
END:VEVENT
END:VCALENDAR
