BEGIN:VCALENDAR
PRODID:NingEventWidget-v1
VERSION:2.0
METHOD:PUBLISH
BEGIN:VTIMEZONE
TZID:Europe/London
X-LIC-LOCATION:Europe/London
BEGIN:DAYLIGHT
TZOFFSETFROM:+0000
TZOFFSETTO:+0100
TZNAME:BST
DTSTART:19700329T010000
RRULE:FREQ=YEARLY;BYMONTH=3;BYDAY=-1SU
END:DAYLIGHT
BEGIN:STANDARD
TZOFFSETFROM:+0100
TZOFFSETTO:+0000
TZNAME:GMT
DTSTART:19701025T020000
RRULE:FREQ=YEARLY;BYMONTH=10;BYDAY=-1SU
END:STANDARD
END:VTIMEZONE
BEGIN:VEVENT
UID:6278630:Event:40820
DTSTAMP:20260421T152820Z
SUMMARY:Exhibition - Megan Sinfield
DESCRIPTION:As part of the AP&Beyond Festival we are putting on two ve
 ry exciting exhibitions, which will fill The Step with artwork inspire
 d by local landmarks.\nMegan Sinfield works in digital collage and she
  has created a body of work especially for her exhibition at The Step.
 \nMegan explains that her intention is “to uncover an element of bea
 uty in places you wouldn’t expect and to celebrate local treasures, 
 sources of comfort and familiarity to those who pass them everyday.”
 is an artist who focuses on depicting “Places that are maybe overloo
 ked or ignored. …not beautiful, although some have a faded grandeur 
 of beauty past its prime, now run down and falling apart.”\nMegan cr
 eates her work by scanning a drawing into a computer and then building
  it up with layers, blending sections of photographs to create interes
 ting colours and rough textures which often resemble painting.\nCheck 
 out her Facebook page by clicking here.\nMegan will be at The Step in 
 person on Saturday 23rd June between 2-4pm where you will be able to a
 sk her questions about her work, what inspires her and her artistic te
 chniques.\nAll work is for sale – grab your chance to buy a piece of
  locally-inspired and important artwork!\nExhibition dates: Thursday 2
 1st June to Sunday 22nd July\n\nFor more information visit https://bow
 esandbounds.org/events/exhibition-megan-sinfield
DTSTART;TZID=Europe/London:20120621T213000
DTEND;TZID=Europe/London:20120624T230000
CATEGORIES:exhibition, artist, talk
LOCATION:The Step
WEBSITE:http://www.thestep.co.uk/
URL:http://www.thestep.co.uk/
CONTACT:020 3302 2412
ORGANIZER;CN="Nell Riches":https://bowesandbounds.org/profile/NellRich
 es
ATTACH;FMTTYPE="image/jpeg":http://storage.ning.com/topology/rest/1.0/
 file/get/2287241274?profile=original
ATTENDEE;ROLE=REQ-PARTICIPANT;PARTSTAT=ACCEPTED;RSVP=TRUE;CN="Nell Ric
 hes":https://bowesandbounds.org/profile/NellRiches
END:VEVENT
END:VCALENDAR
