BEGIN:VCALENDAR
PRODID:NingEventWidget-v1
VERSION:2.0
METHOD:PUBLISH
BEGIN:VTIMEZONE
TZID:Europe/London
X-LIC-LOCATION:Europe/London
BEGIN:DAYLIGHT
TZOFFSETFROM:+0000
TZOFFSETTO:+0100
TZNAME:BST
DTSTART:19700329T010000
RRULE:FREQ=YEARLY;BYMONTH=3;BYDAY=-1SU
END:DAYLIGHT
BEGIN:STANDARD
TZOFFSETFROM:+0100
TZOFFSETTO:+0000
TZNAME:GMT
DTSTART:19701025T020000
RRULE:FREQ=YEARLY;BYMONTH=10;BYDAY=-1SU
END:STANDARD
END:VTIMEZONE
BEGIN:VEVENT
UID:6278630:Event:107185
DTSTAMP:20260423T221701Z
SUMMARY:Exhibition: Ruma Nowaz
DESCRIPTION:Working mostly in oils and watercolours, over the course o
 f her career as a painter, Ruma Nowaz has built up a stunning collect
 ion of the evocative abstracts and misty, nostalgic landscapes that ha
 ve become her signature style, presented here for her first solo exhi
 bition at Karamel. Among the works shown are newer pieces, such as th
 e continuing series of local landmarks, and older paintings, which pe
 rfectly demonstrate Nowaz’s ability to create subtle drama in sea of
  intense darks and placid lights, the interplay of which makes up muc
 h of her oeuvre. Water, and colour all feature prominently; indicativ
 e of the artist’s Indian heritage and London surroundings, and a nee
 d to immerse herself in the vibrations and colour of nature, conveyin
 g through her art an essence of that world, and expressing her respon
 se to enclosed natural spaces.\nFor the audience the works are intrigu
 ing to the point of almost hypnotic, drawing the eye with the suggest
 ion of a figure, or sweeping, all-engrossing brushstroke. Even the per
 ceived ambience of Nowaz’s more vague semi-abstract canvasses belie
 s an unmistakable glimmer of life, which can add a world of unexplore
 d thoughts and reactions to the piece.\n\nFor more information visit h
 ttps://bowesandbounds.org/events/exhibition-ruma-nowaz
DTSTART;TZID=Europe/London:20160205T180000
DTEND;TZID=Europe/London:20160311T190000
CATEGORIES:"'exhibition'", "'art'", "'karamel'", "'local", "art'", "'r
 uma", "nowaz'"
LOCATION:Karamel
WEBSITE:http://karamelrestaurant.com/event/exhibition-ruma-nowaz/
URL:http://karamelrestaurant.com/event/exhibition-ruma-nowaz/
CONTACT:0208 829 8989
ORGANIZER;CN="Events at Karamel":https://bowesandbounds.org/profile/Ph
 ilSherman
ATTACH;FMTTYPE="image/jpeg":http://storage.ning.com/topology/rest/1.0/
 file/get/2287304108?profile=original
ATTENDEE;ROLE=REQ-PARTICIPANT;PARTSTAT=ACCEPTED;RSVP=TRUE;CN="Events a
 t Karamel":https://bowesandbounds.org/profile/PhilSherman
END:VEVENT
END:VCALENDAR
