BEGIN:VCALENDAR
PRODID:NingEventWidget-v1
VERSION:2.0
METHOD:PUBLISH
BEGIN:VTIMEZONE
TZID:Europe/London
X-LIC-LOCATION:Europe/London
BEGIN:DAYLIGHT
TZOFFSETFROM:+0000
TZOFFSETTO:+0100
TZNAME:BST
DTSTART:19700329T010000
RRULE:FREQ=YEARLY;BYMONTH=3;BYDAY=-1SU
END:DAYLIGHT
BEGIN:STANDARD
TZOFFSETFROM:+0100
TZOFFSETTO:+0000
TZNAME:GMT
DTSTART:19701025T020000
RRULE:FREQ=YEARLY;BYMONTH=10;BYDAY=-1SU
END:STANDARD
END:VTIMEZONE
BEGIN:VEVENT
UID:6278630:Event:235127
DTSTAMP:20260422T132544Z
SUMMARY:Explore Creative Writing Set 1 with Sonia Lambert
DESCRIPTION:Thursday mornings, 10.30am-1pm; 10, 17, 24 June, 1, 8, 15
  July. £125. Email kate@collage-arts.org.uk to reserve your place an
 d receive a payment link. Virtual Writing Room via ZOOM video confere
 nce & correspondence.\nThis course is great for beginners and also for
  writers at any level who wish to generate lots of new ideas and mater
 ial. It also works very well for people returning to writing after a b
 reak, wishing to get back into crafting words on the page.\nThis fun a
 nd playful course will use different creative writing exercises and pr
 ompts to get you working, in a friendly and supportive environment. We
  will set out from a new starting point each week, and experiment with
  different techniques and ways into prose writing.\nWeek 1) Place (men
 tal maps and sensory detail)\nWeek 2) People (picture prompts and char
 acter sketches)\nWeek 3) Objects\nWeek 4) Food\nWeek 5) Gaps (collage 
 and “found text”)\nWeek 6) Journeys\nEnjoy this set of 6 workshops
 , one of 2 separate sets which can be taken in any order.\nWe would lo
 ve to welcome you to our writing community where you can progress your
  work, share ideas with other writers, and focus on your writing away 
 from distractions.\n\nFor more information visit https://bowesandbound
 s.org/events/explore-creative-writing-set-1-with-sonia-lambert
DTSTART;TZID=Europe/London:20210610T103000
DTEND;TZID=Europe/London:20210610T130000
CATEGORIES:"creative writing for beginners", "writing workshop online"
 , "explore creative writing"
LOCATION:Collage Writing Room online
WEBSITE:http://collagewritingroom.com/summer-courses/
URL:http://collagewritingroom.com/summer-courses/
CONTACT:
ORGANIZER:Carmel Shortall for Collage Writing Room
ATTACH;FMTTYPE="image/jpeg":https://storage.ning.com/topology/rest/1.0
 /file/get/8680225877?profile=original
ATTENDEE;ROLE=REQ-PARTICIPANT;PARTSTAT=ACCEPTED;RSVP=TRUE;CN="Carmel S
 hortall":https://bowesandbounds.org/profile/CarmelShortall
END:VEVENT
END:VCALENDAR
