BEGIN:VCALENDAR
PRODID:NingEventWidget-v1
VERSION:2.0
METHOD:PUBLISH
BEGIN:VTIMEZONE
TZID:Europe/London
X-LIC-LOCATION:Europe/London
BEGIN:DAYLIGHT
TZOFFSETFROM:+0000
TZOFFSETTO:+0100
TZNAME:BST
DTSTART:19700329T010000
RRULE:FREQ=YEARLY;BYMONTH=3;BYDAY=-1SU
END:DAYLIGHT
BEGIN:STANDARD
TZOFFSETFROM:+0100
TZOFFSETTO:+0000
TZNAME:GMT
DTSTART:19701025T020000
RRULE:FREQ=YEARLY;BYMONTH=10;BYDAY=-1SU
END:STANDARD
END:VTIMEZONE
BEGIN:VEVENT
UID:6278630:Event:143581
DTSTAMP:20260422T184549Z
SUMMARY:Explore Creative Writing with Sonia Lambert - online course
DESCRIPTION:Thursday mornings, 10.30am to 1pm; November 5, 12, 19, 26,
  December 3, 10. £125\nThis course is great for beginners and also fo
 r writers at any level who wish to generate lots of new ideas and mate
 rial. This fun and playful course will use different creative writing 
 exercises and prompts to get you working, in a friendly and supportive
  environment. We will set out from a new starting point each week, and
  experiment with different techniques and ways into prose writing.\nWe
 ek 1) Place (mental maps and sensory detail)\nWeek 2) People (picture 
 prompts and character sketches)\nWeek 3) Objects\nWeek 4) Food\nWeek 5
 ) Gaps (collage and “found text”)\nWeek 6) Journeys\nFor more info
 rmation, click here http://collagewritingroom.com/autumn-courses/\nOR 
 TO RESERVE YOUR PLACE AND RECEIVE A PAYMENT LINK PLEASE EMAIL: kate@co
 llage-arts.org\nEnrol on one of Collage Writing Room’s online writin
 g workshops this Autumn and become part of our supportive writing comm
 unity.\n\nFor more information visit https://bowesandbounds.org/events
 /explore-creative-writing-with-sonia-lambert-online-course
DTSTART;TZID=Europe/London:20201105T103000
DTEND;TZID=Europe/London:20201105T130000
CATEGORIES:"explore creative writing", "new writer", "writing workshop
 "
LOCATION:Online from Collage Writing Room
WEBSITE:http://collagewritingroom.com/autumn-courses/
URL:http://collagewritingroom.com/autumn-courses/
CONTACT:
ORGANIZER:Carmel Shortall for Collage Writing Room
ATTACH;FMTTYPE="image/jpeg":https://storage.ning.com/topology/rest/1.0
 /file/get/7721572673?profile=original
ATTENDEE;ROLE=REQ-PARTICIPANT;PARTSTAT=ACCEPTED;RSVP=TRUE;CN="Carmel S
 hortall":https://bowesandbounds.org/profile/CarmelShortall
END:VEVENT
END:VCALENDAR
