BEGIN:VCALENDAR
PRODID:NingEventWidget-v1
VERSION:2.0
METHOD:PUBLISH
BEGIN:VTIMEZONE
TZID:Europe/London
X-LIC-LOCATION:Europe/London
BEGIN:DAYLIGHT
TZOFFSETFROM:+0000
TZOFFSETTO:+0100
TZNAME:BST
DTSTART:19700329T010000
RRULE:FREQ=YEARLY;BYMONTH=3;BYDAY=-1SU
END:DAYLIGHT
BEGIN:STANDARD
TZOFFSETFROM:+0100
TZOFFSETTO:+0000
TZNAME:GMT
DTSTART:19701025T020000
RRULE:FREQ=YEARLY;BYMONTH=10;BYDAY=-1SU
END:STANDARD
END:VTIMEZONE
BEGIN:VEVENT
UID:6278630:Event:127630
DTSTAMP:20260420T035237Z
SUMMARY:Family Activities Day
DESCRIPTION:Running out of half-term activities? Our Park Information 
 Centre will be open on Sunday with a host of activities for families -
  Know your leaves, an autumn Scavenger Hunt, quiz sheets, an Xplorer c
 ourse to test your map reading skills around the Grove and mask making
  in time for Halloween.\nDrop in at any time between 11 and 3. It's al
 l free!\nwww.friendsofalexandrapark.org\nLink to all Events coming up 
 in the Park\n\nFor more information visit https://bowesandbounds.org/e
 vents/family-activities-day-1
DTSTART;TZID=Europe/London:20171029T110000
DTEND;TZID=Europe/London:20171029T150000
CATEGORIES:family, kids, children
LOCATION:Alexandra Park
WEBSITE:http://www.alexandrapark.org
URL:http://www.alexandrapark.org
CONTACT:
ORGANIZER;CN="Stephen Middleton":https://bowesandbounds.org/profile/St
 ephenMiddleton
ATTACH;FMTTYPE="image/jpeg":http://storage.ning.com/topology/rest/1.0/
 file/get/2287321100?profile=original
ATTENDEE;ROLE=REQ-PARTICIPANT;PARTSTAT=ACCEPTED;RSVP=TRUE;CN="Stephen 
 Middleton":https://bowesandbounds.org/profile/StephenMiddleton
END:VEVENT
END:VCALENDAR
