BEGIN:VCALENDAR
PRODID:NingEventWidget-v1
VERSION:2.0
METHOD:PUBLISH
BEGIN:VTIMEZONE
TZID:Europe/London
X-LIC-LOCATION:Europe/London
BEGIN:DAYLIGHT
TZOFFSETFROM:+0000
TZOFFSETTO:+0100
TZNAME:BST
DTSTART:19700329T010000
RRULE:FREQ=YEARLY;BYMONTH=3;BYDAY=-1SU
END:DAYLIGHT
BEGIN:STANDARD
TZOFFSETFROM:+0100
TZOFFSETTO:+0000
TZNAME:GMT
DTSTART:19701025T020000
RRULE:FREQ=YEARLY;BYMONTH=10;BYDAY=-1SU
END:STANDARD
END:VTIMEZONE
BEGIN:VEVENT
UID:6278630:Event:136653
DTSTAMP:20260424T005114Z
SUMMARY:Family Activities in the Grove
DESCRIPTION:See things invisible to the naked eye, like diatoms, which
  are minute organisms in water contained in a glass shell. That's one 
 illustrated above.  (And they were featured in last Sunday's Countryf
 ile on BBC1).  You can also explore the world of tiny bugs, and the p
 lastic fibres which unfortunately are everywhere.   Three experts ar
 e bringing their microscopes to the Park Visitor Centre to show us th
 ings most of us have never seen before.  And all the specimens we loo
 k at will be collected in the Park. But if microscopes are not your th
 ing, you can have a great afternoon tracking down bugs and flowers wi
 th the Scavenge Hunt, see if you can match leaves to  trees. and t
 est your map reading skills on the Xplorer course.  Free to all.  At 
 the Park Visitor Centre in the Grove.\n In case you are wondering, th
 e diatom above is less than a tenth of a millimetre across.\n\nFor mor
 e information visit https://bowesandbounds.org/events/family-activitie
 s-in-the-grove-1
DTSTART;TZID=Europe/London:20190527T120000
DTEND;TZID=Europe/London:20190527T160000
CATEGORIES:children, kids, "friends of parks"
LOCATION:Alexandra Park
WEBSITE:http://www.friendsofalexandrapark.org
URL:http://www.friendsofalexandrapark.org
CONTACT:
ORGANIZER;CN="Stephen Middleton":https://bowesandbounds.org/profile/St
 ephenMiddleton
ATTACH;FMTTYPE="image/jpeg":https://storage.ning.com/topology/rest/1.0
 /file/get/2652993088?profile=original
ATTENDEE;ROLE=REQ-PARTICIPANT;PARTSTAT=ACCEPTED;RSVP=TRUE;CN="Stephen 
 Middleton":https://bowesandbounds.org/profile/StephenMiddleton
END:VEVENT
END:VCALENDAR
