BEGIN:VCALENDAR
PRODID:NingEventWidget-v1
VERSION:2.0
METHOD:PUBLISH
BEGIN:VTIMEZONE
TZID:Europe/London
X-LIC-LOCATION:Europe/London
BEGIN:DAYLIGHT
TZOFFSETFROM:+0000
TZOFFSETTO:+0100
TZNAME:BST
DTSTART:19700329T010000
RRULE:FREQ=YEARLY;BYMONTH=3;BYDAY=-1SU
END:DAYLIGHT
BEGIN:STANDARD
TZOFFSETFROM:+0100
TZOFFSETTO:+0000
TZNAME:GMT
DTSTART:19701025T020000
RRULE:FREQ=YEARLY;BYMONTH=10;BYDAY=-1SU
END:STANDARD
END:VTIMEZONE
BEGIN:VEVENT
UID:6278630:Event:87073
DTSTAMP:20260422T051442Z
SUMMARY:Fare Free Friday courtesy of Mastercard
DESCRIPTION:\nsee file Fare_Free_Friday_Offer.pdf for full details o
 f restrictions.\nAn earlier offer on 14th November gave London Undergr
 ound its busiest day ever, click here so allow more time for your jo
 urney. \n1. This offer is only open to MasterCard® Contactless card 
 and device holders.It DOES NOT apply to Visa contactless travel2. Offe
 r only valid if using a MasterCard Contactless enabled card or device.
 \n3. The offer will be available from 04:30am 28/11/2014 to 01:00am 29
 /11/2014 inclusive(“Promotional Period”).\n4. If you have not used
  your MasterCard Contactless card or device before, you may have to ma
 ke a Chip & Pin transaction before the Contactless functionality is ac
 tivated. The maximum value of the promotion is £21.70\n5.  Some trai
 ns and especially Night buses operate outside of these  hours, so ens
 ure that on Night Buses journeys are began  and touched in on the yel
 low Oyster reader before 01:00am on 29th November 2014\n6. Some trave
 llers may benefit from using what is known as split ticketing.\n7. Far
 es will still be charged to your credit card in accordance with the ru
 les, link here and then refunded up to 4 weeks later\n\nFor more inf
 ormation visit https://bowesandbounds.org/events/fare-free-friday-cour
 tesy-of-mastercard
DTSTART;TZID=Europe/London:20141128T043000
DTEND;TZID=Europe/London:20141129T010000
CATEGORIES:travel, offer
LOCATION:London wide
WEBSITE:http://www.mastercard.co.uk/contactless.html
URL:http://www.mastercard.co.uk/contactless.html
CONTACT:
ORGANIZER;CN="Donald Smith":https://bowesandbounds.org/profile/DonaldS
 mith
ATTACH;FMTTYPE="image/jpeg":http://storage.ning.com/topology/rest/1.0/
 file/get/2287274672?profile=original
END:VEVENT
END:VCALENDAR
