BEGIN:VCALENDAR
PRODID:NingEventWidget-v1
VERSION:2.0
METHOD:PUBLISH
BEGIN:VTIMEZONE
TZID:Europe/London
X-LIC-LOCATION:Europe/London
BEGIN:DAYLIGHT
TZOFFSETFROM:+0000
TZOFFSETTO:+0100
TZNAME:BST
DTSTART:19700329T010000
RRULE:FREQ=YEARLY;BYMONTH=3;BYDAY=-1SU
END:DAYLIGHT
BEGIN:STANDARD
TZOFFSETFROM:+0100
TZOFFSETTO:+0000
TZNAME:GMT
DTSTART:19701025T020000
RRULE:FREQ=YEARLY;BYMONTH=10;BYDAY=-1SU
END:STANDARD
END:VTIMEZONE
BEGIN:VEVENT
UID:6278630:Event:245280
DTSTAMP:20260420T090855Z
SUMMARY:Film Premiere - Windrush 75: What is Home?
DESCRIPTION:Join us for the premiere film showing of 'The Excursion ' 
 , a documentary that explores inspiring stories of Haringey people who
  came to Britain from the Caribbean as part of the Windrush Generation
 . Follow their journeys, challenges and achievements as they settled i
 n England.\nAll welcome. Free entry, refreshments included. No booking
  required.\nThis special event is brought to you by 4U2 News and Bruce
  Castle Museum & Archive.\n\nFor more information visit https://bowesa
 ndbounds.org/events/film-premiere-windrush-75-what-is-home
DTSTART;TZID=Europe/London:20231028T140000
DTEND;TZID=Europe/London:20231028T160000
CATEGORIES:"bhm event"
LOCATION:Bruce Castle Museum
WEBSITE:https://www.brucecastle.org/events/film-premiere-windrush-75-w
 hat-home
URL:https://www.brucecastle.org/events/film-premiere-windrush-75-what-
 home
CONTACT:02084894250
ORGANIZER:museum.services@haringey.gov.uk
ATTACH;FMTTYPE="image/jpeg":https://storage.ning.com/topology/rest/1.0
 /file/get/12255061699?profile=original
ATTENDEE;ROLE=REQ-PARTICIPANT;PARTSTAT=ACCEPTED;RSVP=TRUE;CN="Mark Wel
 ls":https://bowesandbounds.org/profile/MarkWells
END:VEVENT
END:VCALENDAR
