BEGIN:VCALENDAR
PRODID:NingEventWidget-v1
VERSION:2.0
METHOD:PUBLISH
BEGIN:VTIMEZONE
TZID:Europe/London
X-LIC-LOCATION:Europe/London
BEGIN:DAYLIGHT
TZOFFSETFROM:+0000
TZOFFSETTO:+0100
TZNAME:BST
DTSTART:19700329T010000
RRULE:FREQ=YEARLY;BYMONTH=3;BYDAY=-1SU
END:DAYLIGHT
BEGIN:STANDARD
TZOFFSETFROM:+0100
TZOFFSETTO:+0000
TZNAME:GMT
DTSTART:19701025T020000
RRULE:FREQ=YEARLY;BYMONTH=10;BYDAY=-1SU
END:STANDARD
END:VTIMEZONE
BEGIN:VEVENT
UID:6278630:Event:238661
DTSTAMP:20260419T160006Z
SUMMARY:Finding the Poem Set 3 - A series of workshops with Collage Wr
 iting Room
DESCRIPTION:Finding the Poem Set 3 with Paul Lyalls NB: 5 WEEKS, DUE T
 O THE BANK HOLIDAY\nThis is a course for anyone who wants to liberate 
 their creativity and immerse themselves in the joy of language. Playfu
 l, fun, entertaining, enlightening – explore your word power with Pa
 ul Lyalls. Full of off-kilter pen to paper tangoing, including an Edin
 burgh Festival Comedy approach to humour in poetry, scuba diving what 
 you’ve been surviving via a trip to India!\nEnjoy this set of 6 work
 shops, one of 4 separate sets which can be taken in any order.\nWeek 1
 ) How to show fast and slow (momentum in writing)\nWeek 2) Heart and s
 oul of the people we know (not T’pau)\nWeek 3) Rooms\nWeek 4) Wants 
 and desire via a road trip to India\nWeek 5) The cinema within a momen
 t\nA note to prose writers: have you ever wondered what it is like to 
 write in the poetic form? Perhaps you write in prose automatically, bu
 t would like to try to use language in another way. If your fiction ne
 eds a lift, if your life-writing needs lilt, if your central character
 s don’t quite sing (or even if they do!) you can free your writing t
 hrough poetry.\nMonday evenings: 6.30-9pm. Jan 10, 17, 24, 31, Feb 7. 
 £100. Email kate@collage-arts.org to reserve your place and receive a
  payment link. Virtual Writing Room via ZOOM.\n\nFor more information 
 visit https://bowesandbounds.org/events/finding-the-poem-set-3-a-serie
 s-of-workshops-with-collage-writing
DTSTART;TZID=Europe/London:20220110T183000
DTEND;TZID=Europe/London:20220110T210000
CATEGORIES:poetry, "creative writing", "online poetry workshop", "find
  your inner poet"
LOCATION:Zoom Online from Collage Writing Room
WEBSITE:http://collagewritingroom.com/spring-programme/
URL:http://collagewritingroom.com/spring-programme/
CONTACT:
ORGANIZER:Carmel for Collage Writing Room
ATTACH;FMTTYPE="image/jpeg":https://storage.ning.com/topology/rest/1.0
 /file/get/9917741492?profile=original
ATTENDEE;ROLE=REQ-PARTICIPANT;PARTSTAT=ACCEPTED;RSVP=TRUE;CN="c p shor
 tall":https://bowesandbounds.org/profile/3j09t7wiq9lkd
END:VEVENT
END:VCALENDAR
