BEGIN:VCALENDAR
PRODID:NingEventWidget-v1
VERSION:2.0
METHOD:PUBLISH
BEGIN:VTIMEZONE
TZID:Europe/London
X-LIC-LOCATION:Europe/London
BEGIN:DAYLIGHT
TZOFFSETFROM:+0000
TZOFFSETTO:+0100
TZNAME:BST
DTSTART:19700329T010000
RRULE:FREQ=YEARLY;BYMONTH=3;BYDAY=-1SU
END:DAYLIGHT
BEGIN:STANDARD
TZOFFSETFROM:+0100
TZOFFSETTO:+0000
TZNAME:GMT
DTSTART:19701025T020000
RRULE:FREQ=YEARLY;BYMONTH=10;BYDAY=-1SU
END:STANDARD
END:VTIMEZONE
BEGIN:VEVENT
UID:6278630:Event:125981
DTSTAMP:20260426T041040Z
SUMMARY:FinsFeste (Finsbury Garden Festival): Saturday 9 September
DESCRIPTION:The Bowes Park Community Association is delighted to invit
 e you to our annual Festival, taking place in Finsbury Gardens on Satu
 rday 9 September, 2.00 p.m. to 6 p.m.   There are lots of exciting ac
 tivities for everyone, including a drumming workshop; bouncy castle; t
 he water game, Bowes Park Community Choir; a jazz band and lots of cak
 e!\nBring your family and join in the fun…..\n\nFor more information
  visit https://bowesandbounds.org/events/finsfeste-finsbury-garden-fes
 tival-saturday-9-september
DTSTART;TZID=Europe/London:20170909T140000
DTEND;TZID=Europe/London:20170909T180000
CATEGORIES:community, festival
LOCATION:Finsbury Gardens, N22
WEBSITE:
URL:
CONTACT:
ORGANIZER;CN="Joanna Burke":https://bowesandbounds.org/profile/JoannaB
 urke
ATTACH;FMTTYPE="image/jpeg":http://storage.ning.com/topology/rest/1.0/
 file/get/2287320714?profile=original
ATTENDEE;ROLE=REQ-PARTICIPANT;PARTSTAT=ACCEPTED;RSVP=TRUE;CN="Joanna B
 urke":https://bowesandbounds.org/profile/JoannaBurke
END:VEVENT
END:VCALENDAR
