BEGIN:VCALENDAR
PRODID:NingEventWidget-v1
VERSION:2.0
METHOD:PUBLISH
BEGIN:VTIMEZONE
TZID:Europe/London
X-LIC-LOCATION:Europe/London
BEGIN:DAYLIGHT
TZOFFSETFROM:+0000
TZOFFSETTO:+0100
TZNAME:BST
DTSTART:19700329T010000
RRULE:FREQ=YEARLY;BYMONTH=3;BYDAY=-1SU
END:DAYLIGHT
BEGIN:STANDARD
TZOFFSETFROM:+0100
TZOFFSETTO:+0000
TZNAME:GMT
DTSTART:19701025T020000
RRULE:FREQ=YEARLY;BYMONTH=10;BYDAY=-1SU
END:STANDARD
END:VTIMEZONE
BEGIN:VEVENT
UID:6278630:Event:239644
DTSTAMP:20260421T222033Z
SUMMARY:Flash Fiction Workout, with Giovanna Iozzi
DESCRIPTION:‘Flash is its own form, uniquely suited to innovation an
 d experimentation…That’s what makes it so exciting to read and wri
 te. Flash fiction, done well, can be so mind-bending and fresh.’ Ka
 thy Fish\nIn this new class, we will explore the exciting short form o
 f Flash Fiction using quirky themes, concepts and visual writing promp
 ts. We will: \n\nRead a wide range of published Flash pieces from the
  heart-breaking, funny and joyful to the experimental, uncanny and wei
 rd to analyse the breadth and potential of the form. •  Discover th
 e best online and print places to publish your work as well as competi
 tion opportunities. • Write Flash pieces in class each week, sharing
  work with the group, as well as bringing in pieces worked on at home.
 \n\nThis course is ideal for generating lots of new material. It will 
 bring concision, vibrancy and wonder to your work and welcomes all lev
 els of writer.\nWednesdays 10.30am to 1.00pm. April 20, 27, May 4, 11,
  18, 25. £125. Email kate@collage-arts.org to enrol. \n\nFor more 
 information visit https://bowesandbounds.org/events/flash-fiction-work
 out-with-giovanna-iozzi
DTSTART;TZID=Europe/London:20220420T103000
DTEND;TZID=Europe/London:20220420T130000
CATEGORIES:"flash fiction course", "write shorter fiction", online, cr
 eative, "writing\""
LOCATION:Zoom Online from Collage Writing Room
WEBSITE:http://collagewritingroom.com/summer-programme/
URL:http://collagewritingroom.com/summer-programme/
CONTACT:
ORGANIZER:Carmel for Collage Writing Room
ATTACH;FMTTYPE="image/jpeg":https://storage.ning.com/topology/rest/1.0
 /file/get/10241486060?profile=original
ATTENDEE;ROLE=REQ-PARTICIPANT;PARTSTAT=ACCEPTED;RSVP=TRUE;CN="c p shor
 tall":https://bowesandbounds.org/profile/3j09t7wiq9lkd
END:VEVENT
END:VCALENDAR
