BEGIN:VCALENDAR
PRODID:NingEventWidget-v1
VERSION:2.0
METHOD:PUBLISH
BEGIN:VTIMEZONE
TZID:Europe/London
X-LIC-LOCATION:Europe/London
BEGIN:DAYLIGHT
TZOFFSETFROM:+0000
TZOFFSETTO:+0100
TZNAME:BST
DTSTART:19700329T010000
RRULE:FREQ=YEARLY;BYMONTH=3;BYDAY=-1SU
END:DAYLIGHT
BEGIN:STANDARD
TZOFFSETFROM:+0100
TZOFFSETTO:+0000
TZNAME:GMT
DTSTART:19701025T020000
RRULE:FREQ=YEARLY;BYMONTH=10;BYDAY=-1SU
END:STANDARD
END:VTIMEZONE
BEGIN:VEVENT
UID:6278630:Event:140053
DTSTAMP:20260422T234355Z
SUMMARY:Folk Concert Bowes Park N11
DESCRIPTION:Bowes Park Folk Club presents highly acclaimed folk trio, 
 Alden, Patterson & Dashwood  playing in Bowes Park Sunday 15th March
 .Their recent album 'Call Me Home' received widespread acclaim. 5 Star
 s from Radio2 ('Talented & poetic triumvirate')5 stars for Album of th
 e year , Roots Magazine. Beautifully written original songs & melodies
 , with rich Vocal harmonies, Fiddle, Guitar & Dobro. Free tea & cakes 
 in the interval.\nTickets : £9.50Adult/£6.00 under 12's\nfrom:\nhttp
 s://www.peoplesfundraising.com/event/folk-concert-at-bowes-park\nor in
  person from Cafe Renaissance 81 Myddleton\nRoad N22 8NE\n\n\nFor more
  information visit https://bowesandbounds.org/events/folk-concert-bowe
 s-park-n11
DTSTART;TZID=Europe/London:20200315T143000
DTEND;TZID=Europe/London:20200315T173000
CATEGORIES:community, folk, concert
LOCATION:SHAFTESBURY HALL N11 2QN
WEBSITE:
URL:
CONTACT:02088886727
ORGANIZER:Bowes Park Folk Club
ATTACH;FMTTYPE="image/jpeg":https://storage.ning.com/topology/rest/1.0
 /file/get/3840336276?profile=original
ATTENDEE;ROLE=REQ-PARTICIPANT;PARTSTAT=ACCEPTED;RSVP=TRUE;CN="Audrey E
 vers":https://bowesandbounds.org/profile/AudreyEvers
END:VEVENT
END:VCALENDAR
