BEGIN:VCALENDAR
PRODID:NingEventWidget-v1
VERSION:2.0
METHOD:PUBLISH
BEGIN:VTIMEZONE
TZID:Europe/London
X-LIC-LOCATION:Europe/London
BEGIN:DAYLIGHT
TZOFFSETFROM:+0000
TZOFFSETTO:+0100
TZNAME:BST
DTSTART:19700329T010000
RRULE:FREQ=YEARLY;BYMONTH=3;BYDAY=-1SU
END:DAYLIGHT
BEGIN:STANDARD
TZOFFSETFROM:+0100
TZOFFSETTO:+0000
TZNAME:GMT
DTSTART:19701025T020000
RRULE:FREQ=YEARLY;BYMONTH=10;BYDAY=-1SU
END:STANDARD
END:VTIMEZONE
BEGIN:VEVENT
UID:6278630:Event:244859
DTSTAMP:20260425T021145Z
SUMMARY:Food Bank 3rd Anniversary Fundraiser
DESCRIPTION:Come and donate a bag of food or a cash donation and enjoy
  a free drink thanks to The Prince Pub.\r\n\r\n\n\nFor more informatio
 n visit https://bowesandbounds.org/events/food-bank-3rd-anniversary-fu
 ndraiser
DTSTART;TZID=Europe/London:20230624T120000
DTEND;TZID=Europe/London:20230624T160000
CATEGORIES:fundraiser
LOCATION:The Prince
WEBSITE:https://www.boundsgreenfoodbank.org/
URL:https://www.boundsgreenfoodbank.org/
CONTACT:
ORGANIZER;CN="Daniel Cowan":https://bowesandbounds.org/profile/DanielC
 owan
ATTACH;FMTTYPE="image/jpeg":https://storage.ning.com/topology/rest/1.0
 /file/get/12107670675?profile=original
ATTENDEE;ROLE=REQ-PARTICIPANT;PARTSTAT=ACCEPTED;RSVP=TRUE;CN="Daniel C
 owan":https://bowesandbounds.org/profile/DanielCowan
END:VEVENT
END:VCALENDAR
