BEGIN:VCALENDAR
PRODID:NingEventWidget-v1
VERSION:2.0
METHOD:PUBLISH
BEGIN:VTIMEZONE
TZID:Europe/London
X-LIC-LOCATION:Europe/London
BEGIN:DAYLIGHT
TZOFFSETFROM:+0000
TZOFFSETTO:+0100
TZNAME:BST
DTSTART:19700329T010000
RRULE:FREQ=YEARLY;BYMONTH=3;BYDAY=-1SU
END:DAYLIGHT
BEGIN:STANDARD
TZOFFSETFROM:+0100
TZOFFSETTO:+0000
TZNAME:GMT
DTSTART:19701025T020000
RRULE:FREQ=YEARLY;BYMONTH=10;BYDAY=-1SU
END:STANDARD
END:VTIMEZONE
BEGIN:VEVENT
UID:6278630:Event:64240
DTSTAMP:20260426T041337Z
SUMMARY:Football Quiz with The Rascal
DESCRIPTION:Join us for our monthly football quiz at The Step Above - 
 on the first Tuesday of every month.\nThe Rascal will be limbering up 
 ready to ask some tricksy questions for the first half, the Meantime d
 raught beer will be flowing at half-time and there is £2 off our hear
 ty pies to boot.\nDo you have the footy knowledge to win the prize, th
 e trophy, and go up to the premier league at full-time?\nThe Step Abov
 e @ 8pm, £2 entry (winning team takes all). Maximum 4 per team.\nThe 
 quiz is taking place upstairs and downstairs will be open for business
  as usual if you don’t fancy putting your music knowledge to the tes
 t.\n\nFor more information visit https://bowesandbounds.org/events/foo
 tball-quiz-with-the-rascal-3
DTSTART;TZID=Europe/London:20131105T200000
DTEND;TZID=Europe/London:20131105T220000
CATEGORIES:quiz, social, football, sport
LOCATION:The Step Above
WEBSITE:http://www.thestep.co.uk/events/
URL:http://www.thestep.co.uk/events/
CONTACT:020 3302 2412
ORGANIZER;CN="Nell Riches":https://bowesandbounds.org/profile/NellRich
 es
ATTACH;FMTTYPE="image/jpeg":http://storage.ning.com/topology/rest/1.0/
 file/get/2287252243?profile=original
ATTENDEE;ROLE=REQ-PARTICIPANT;PARTSTAT=ACCEPTED;RSVP=TRUE;CN="Nell Ric
 hes":https://bowesandbounds.org/profile/NellRiches
END:VEVENT
END:VCALENDAR
