BEGIN:VCALENDAR
PRODID:NingEventWidget-v1
VERSION:2.0
METHOD:PUBLISH
BEGIN:VTIMEZONE
TZID:Europe/London
X-LIC-LOCATION:Europe/London
BEGIN:DAYLIGHT
TZOFFSETFROM:+0000
TZOFFSETTO:+0100
TZNAME:BST
DTSTART:19700329T010000
RRULE:FREQ=YEARLY;BYMONTH=3;BYDAY=-1SU
END:DAYLIGHT
BEGIN:STANDARD
TZOFFSETFROM:+0100
TZOFFSETTO:+0000
TZNAME:GMT
DTSTART:19701025T020000
RRULE:FREQ=YEARLY;BYMONTH=10;BYDAY=-1SU
END:STANDARD
END:VTIMEZONE
BEGIN:VEVENT
UID:6278630:Event:67859
DTSTAMP:20260425T165039Z
SUMMARY:Footloose the Musical
DESCRIPTION:Finchley and Friern Barnet Operatic Society presents Footl
 oose the Musical.  Footloose tells the story of city boy Ren who has 
 to move to small town America where dancing is banned. All hell breaks
  out as Ren breaks loose and soon has the whole town on it's feet. Fea
 turing classic eighties tunes such as the title track Footloose, Let's
  Hear It For The Boy and Holding Out For A Hero.\n\nFor more informati
 on visit https://bowesandbounds.org/events/footloose-the-musical
DTSTART;TZID=Europe/London:20131112T193000
DTEND;TZID=Europe/London:20131116T220000
CATEGORIES:musical, theatre
LOCATION:Intimate Theatre, Palmers Green
WEBSITE:http://www.ticketsource.co.uk/ffbos
URL:http://www.ticketsource.co.uk/ffbos
CONTACT:02084826923
ORGANIZER;CN="Chris Henry":https://bowesandbounds.org/profile/ChrisHen
 ry
ATTACH;FMTTYPE="image/jpeg":http://storage.ning.com/topology/rest/1.0/
 file/get/2287255818?profile=original
ATTENDEE;ROLE=REQ-PARTICIPANT;PARTSTAT=ACCEPTED;RSVP=TRUE;CN="Chris He
 nry":https://bowesandbounds.org/profile/ChrisHenry
END:VEVENT
END:VCALENDAR
