BEGIN:VCALENDAR
PRODID:NingEventWidget-v1
VERSION:2.0
METHOD:PUBLISH
BEGIN:VTIMEZONE
TZID:Europe/London
X-LIC-LOCATION:Europe/London
BEGIN:DAYLIGHT
TZOFFSETFROM:+0000
TZOFFSETTO:+0100
TZNAME:BST
DTSTART:19700329T010000
RRULE:FREQ=YEARLY;BYMONTH=3;BYDAY=-1SU
END:DAYLIGHT
BEGIN:STANDARD
TZOFFSETFROM:+0100
TZOFFSETTO:+0000
TZNAME:GMT
DTSTART:19701025T020000
RRULE:FREQ=YEARLY;BYMONTH=10;BYDAY=-1SU
END:STANDARD
END:VTIMEZONE
BEGIN:VEVENT
UID:6278630:Event:252693
DTSTAMP:20260420T022603Z
SUMMARY:Fortismere Community Symphony Orchestra Concert
DESCRIPTION:All welcome to join us for Fortismere Community Symphony O
 rchestra's next concert on Sunday 22nd March - featuring Ravel's spect
 acular orchestration of Pictures at an Exhibition, and Prokofiev's vir
 tuosic Piano Concerto No. 3.Early bird tickets available until 13th Ma
 rch online at https://www.fortismeremusiccentre.co.uk/events/fcso22mar
 chStudents/U18s £8 Standard £16Plus the soloist, Tadashi Imai, will 
 give an introductory talk and perform some of the Prokofiev at his Mas
 terclass at Fortismere School the previous Tuesday 17th - tickets £8,
  available at https://www.fortismeremusiccentre.co.uk/events/tadashi-i
 mai\n\nFor more information visit https://bowesandbounds.org/events/fo
 rtismere-community-symphony-orchestra-concert-5
DTSTART;TZID=Europe/London:20260322T190000
DTEND;TZID=Europe/London:20260322T210000
CATEGORIES:classical, music
LOCATION:St Andrew's Church
WEBSITE:
URL:
CONTACT:07968399592
ORGANIZER;CN="Fortismere Music Centre":https://bowesandbounds.org/prof
 ile/FortismereMusicCentre
ATTACH;FMTTYPE="image/jpeg":https://storage.ning.com/topology/rest/1.0
 /file/get/31101263862?profile=original
ATTENDEE;ROLE=REQ-PARTICIPANT;PARTSTAT=ACCEPTED;RSVP=TRUE;CN="Fortisme
 re Music Centre":https://bowesandbounds.org/profile/FortismereMusicCen
 tre
END:VEVENT
END:VCALENDAR
