BEGIN:VCALENDAR
PRODID:NingEventWidget-v1
VERSION:2.0
METHOD:PUBLISH
BEGIN:VTIMEZONE
TZID:Europe/London
X-LIC-LOCATION:Europe/London
BEGIN:DAYLIGHT
TZOFFSETFROM:+0000
TZOFFSETTO:+0100
TZNAME:BST
DTSTART:19700329T010000
RRULE:FREQ=YEARLY;BYMONTH=3;BYDAY=-1SU
END:DAYLIGHT
BEGIN:STANDARD
TZOFFSETFROM:+0100
TZOFFSETTO:+0000
TZNAME:GMT
DTSTART:19701025T020000
RRULE:FREQ=YEARLY;BYMONTH=10;BYDAY=-1SU
END:STANDARD
END:VTIMEZONE
BEGIN:VEVENT
UID:6278630:Event:250669
DTSTAMP:20260421T123933Z
SUMMARY:Fortismere Community Symphony Orchestra concert this Father's 
 Day
DESCRIPTION:Join us for an epic journey through space and sound!\n\n\n
 Bring the whole family for a spectacular night of music that everyone 
 will enjoy. Our upcoming concert is the perfect treat for Father's Day
 , featuring John Williams' thrilling movie themes for Star Wars, Super
 man, and ET, alongside the iconic sounds of Holst’s Mars and Venus f
 rom The Planets. Whether you’re introducing your children to the mag
 ic of the orchestra or reliving your own favourite musical moments, th
 is concert promises a celebration of adventure, imagination, and music
 al wonder!\n\nConcert Programme:\nJohn Williams: SupermanR Strauss: Ho
 rn Concerto No.1John Williams: ET\nInterval\nJohann Strauss II: The Bl
 ue Danube (2001: A Space Odyssey)Mars and Venus from Holst’s The Pla
 netsJohn Williams: Star Wars\nConductor: Thomas GregoryHorn: Paul Guen
 aultLeader: Alexander Casson\nEarly Bird Tickets: £13 Students/U18s: 
 £8 On the day/on the door: £16 available from:https://www.fortismere
 musiccentre.co.uk/events/fortismere-community-symphony-orchestra-conce
 rt-6\n\n\nFor more information visit https://bowesandbounds.org/events
 /fortismere-community-symphony-orchestra-concert-this-father-s-day
DTSTART;TZID=Europe/London:20250615T190000
DTEND;TZID=Europe/London:20250615T210000
CATEGORIES:orchestral, concert
LOCATION:St Andrew's Church, Muswell Hill, N10 2DD
WEBSITE:https://www.fortismeremusiccentre.co.uk/events/fortismere-comm
 unity-symphony-orchestra-concert-6
URL:https://www.fortismeremusiccentre.co.uk/events/fortismere-communit
 y-symphony-orchestra-concert-6
CONTACT:
ORGANIZER;CN="Fortismere Music Centre":https://bowesandbounds.org/prof
 ile/FortismereMusicCentre
ATTACH;FMTTYPE="image/jpeg":https://storage.ning.com/topology/rest/1.0
 /file/get/13556875895?profile=original
ATTENDEE;ROLE=REQ-PARTICIPANT;PARTSTAT=ACCEPTED;RSVP=TRUE;CN="Fortisme
 re Music Centre":https://bowesandbounds.org/profile/FortismereMusicCen
 tre
END:VEVENT
END:VCALENDAR
