BEGIN:VCALENDAR
PRODID:NingEventWidget-v1
VERSION:2.0
METHOD:PUBLISH
BEGIN:VTIMEZONE
TZID:Europe/London
X-LIC-LOCATION:Europe/London
BEGIN:DAYLIGHT
TZOFFSETFROM:+0000
TZOFFSETTO:+0100
TZNAME:BST
DTSTART:19700329T010000
RRULE:FREQ=YEARLY;BYMONTH=3;BYDAY=-1SU
END:DAYLIGHT
BEGIN:STANDARD
TZOFFSETFROM:+0100
TZOFFSETTO:+0000
TZNAME:GMT
DTSTART:19701025T020000
RRULE:FREQ=YEARLY;BYMONTH=10;BYDAY=-1SU
END:STANDARD
END:VTIMEZONE
BEGIN:VEVENT
UID:6278630:Event:245054
DTSTAMP:20260420T091011Z
SUMMARY:Fortismere Community Symphony Orchestra concert
DESCRIPTION:Tickets £12 in advance from https://www.fortismereperfor
 mingartscentre.co.uk/events/fortismere-community-symphony-orchestra-co
 ncert-1\n£15 on the door\n£8 Students/Under-12s\n\nFor more informat
 ion visit https://bowesandbounds.org/events/fortismere-community-symph
 ony-orchestra-concert
DTSTART;TZID=Europe/London:20230715T193000
DTEND;TZID=Europe/London:20230715T213000
CATEGORIES:classical, concert
LOCATION:St Andrew's Church
WEBSITE:
URL:
CONTACT:
ORGANIZER;CN="Fortismere Music Centre":https://bowesandbounds.org/prof
 ile/FortismereMusicCentre
ATTACH;FMTTYPE="image/jpeg":https://storage.ning.com/topology/rest/1.0
 /file/get/12126263267?profile=original
ATTENDEE;ROLE=REQ-PARTICIPANT;PARTSTAT=ACCEPTED;RSVP=TRUE;CN="Fortisme
 re Music Centre":https://bowesandbounds.org/profile/FortismereMusicCen
 tre
END:VEVENT
END:VCALENDAR
