BEGIN:VCALENDAR
PRODID:NingEventWidget-v1
VERSION:2.0
METHOD:PUBLISH
BEGIN:VTIMEZONE
TZID:Europe/London
X-LIC-LOCATION:Europe/London
BEGIN:DAYLIGHT
TZOFFSETFROM:+0000
TZOFFSETTO:+0100
TZNAME:BST
DTSTART:19700329T010000
RRULE:FREQ=YEARLY;BYMONTH=3;BYDAY=-1SU
END:DAYLIGHT
BEGIN:STANDARD
TZOFFSETFROM:+0100
TZOFFSETTO:+0000
TZNAME:GMT
DTSTART:19701025T020000
RRULE:FREQ=YEARLY;BYMONTH=10;BYDAY=-1SU
END:STANDARD
END:VTIMEZONE
BEGIN:VEVENT
UID:6278630:Event:41989
DTSTAMP:20260426T043110Z
SUMMARY:Forty Hall Reopening - The Housewarming
DESCRIPTION:Forty Hall is about to reopen its doors to the public, alm
 ost 400 years after it was first built following a major restoration p
 roject. Join the Housewarming event and be one of the first to marvel 
 at the newly restored Forty Hall & Estate! The Hall will be officially
  opened to the public with timed introductory tours around the buildin
 g led by a costumed guide, offering you the chance to see the changes 
 and view the permanent exhibition.Tour times:From 10am, every 15 minut
 es until 4:45pmFree admission. Booking for the tours essential.\nEach 
 tour will last approximately 20-25 minutes and it will be a busy day i
 n the Hall.On the reopening weekend the estate will also come alive wi
 th an array of music performances on the front lawn, dance acts on the
  back lawn and large-scale 16th and 17th century games taking place un
 derneath the shelter of the magnificent Cedar of Lebanon. Try your han
 d at chess, ‘Goose’, mingle with characters from the 17th century 
 and remember to bring a picnic for what promises to be a fun family da
 y!\nFull details on the Forty Hall Website\n\nFor more information vis
 it https://bowesandbounds.org/events/forty-hall-reopening-the-housewar
 ming
DTSTART;TZID=Europe/London:20120630T000000
DTEND;TZID=Europe/London:20120701T235900
CATEGORIES:exhibition
LOCATION:Forty Hall
WEBSITE:http://www.fortyhallestate.co.uk/plan-a-visit/find_us
URL:http://www.fortyhallestate.co.uk/plan-a-visit/find_us
CONTACT:
ORGANIZER;CN=Administrator:https://bowesandbounds.org/profile/Administ
 rator
ATTACH;FMTTYPE="image/jpeg":http://storage.ning.com/topology/rest/1.0/
 file/get/2287236000?profile=original
ATTENDEE;ROLE=REQ-PARTICIPANT;PARTSTAT=ACCEPTED;RSVP=TRUE;CN=Administr
 ator:https://bowesandbounds.org/profile/Administrator
END:VEVENT
END:VCALENDAR
