BEGIN:VCALENDAR
PRODID:NingEventWidget-v1
VERSION:2.0
METHOD:PUBLISH
BEGIN:VTIMEZONE
TZID:Europe/London
X-LIC-LOCATION:Europe/London
BEGIN:DAYLIGHT
TZOFFSETFROM:+0000
TZOFFSETTO:+0100
TZNAME:BST
DTSTART:19700329T010000
RRULE:FREQ=YEARLY;BYMONTH=3;BYDAY=-1SU
END:DAYLIGHT
BEGIN:STANDARD
TZOFFSETFROM:+0100
TZOFFSETTO:+0000
TZNAME:GMT
DTSTART:19701025T020000
RRULE:FREQ=YEARLY;BYMONTH=10;BYDAY=-1SU
END:STANDARD
END:VTIMEZONE
BEGIN:VEVENT
UID:6278630:Event:39877
DTSTAMP:20260424T045057Z
SUMMARY:Found Art Exhibition and Workshops
DESCRIPTION:Found Art is an exhibition running from 9-20 May at the Ne
 w Gallery in Wood Green Library. It explores the use, or rather re-use
 , of materials and challenges the throw away culture we live in. The e
 xhibition runs alongside some great workshops for adults and children-
  all free of charge!\nPop along to see what's been displayed or get in
 volved in some creative activities.\nFor more info, timings and to boo
 k a space on a workshop if required, visit http://www.haringeytimebank
 .org.uk/green-bank/found-art\n\nFor more information visit https://bow
 esandbounds.org/events/found-art-exhibition-and-workshops
DTSTART;TZID=Europe/London:20120511T140000
DTEND;TZID=Europe/London:20120520T160000
CATEGORIES:exhibition, workshops
LOCATION:Wood Green Library, New Gallery
WEBSITE:http://www.haringeytimebank.org.uk/green-bank/found-art
URL:http://www.haringeytimebank.org.uk/green-bank/found-art
CONTACT:07726580123
ORGANIZER:Haringey Timebank
ATTACH;FMTTYPE="image/jpeg":http://storage.ning.com/topology/rest/1.0/
 file/get/2287232774?profile=original
ATTENDEE;ROLE=REQ-PARTICIPANT;PARTSTAT=ACCEPTED;RSVP=TRUE;CN="Vickie S
 chellert":https://bowesandbounds.org/profile/VickieSchellert
ATTENDEE;ROLE=REQ-PARTICIPANT;PARTSTAT=TENTATIVE;RSVP=TRUE;CN="Rosalin
 d Simpson":https://bowesandbounds.org/profile/RosalindSimpson
END:VEVENT
END:VCALENDAR
