BEGIN:VCALENDAR
PRODID:NingEventWidget-v1
VERSION:2.0
METHOD:PUBLISH
BEGIN:VTIMEZONE
TZID:Europe/London
X-LIC-LOCATION:Europe/London
BEGIN:DAYLIGHT
TZOFFSETFROM:+0000
TZOFFSETTO:+0100
TZNAME:BST
DTSTART:19700329T010000
RRULE:FREQ=YEARLY;BYMONTH=3;BYDAY=-1SU
END:DAYLIGHT
BEGIN:STANDARD
TZOFFSETFROM:+0100
TZOFFSETTO:+0000
TZNAME:GMT
DTSTART:19701025T020000
RRULE:FREQ=YEARLY;BYMONTH=10;BYDAY=-1SU
END:STANDARD
END:VTIMEZONE
BEGIN:VEVENT
UID:6278630:Event:58885
DTSTAMP:20260425T195218Z
SUMMARY:Free Advice for Over Fifties:  Health, money and more
DESCRIPTION:Free advice for anyone over 50 from 10am to 2pm, but the C
 entre will be open all day with free tea, coffee and biscuits availabl
 e.\nPlease note that the correct date is 10 May, not 17 May as stated 
 on the Ruth Winston website\nAdvice and demonstrations will be availab
 le:\n\nBlood pressure and cholesterol tests\nDepartment of Work and Pe
 nsions: advice on benefits and job search/return to work\nBarclays Ban
 k: Managing your money\nProstrate cancer advice\nStroke Association\nT
 rading Standards Office\nCommunity Police\nLBE Older Persons Team\nSou
 thgate Beaumont\nBelly Dancing Workshop\nFire Brigade\n\n and more...\
 n\nFor more information visit https://bowesandbounds.org/events/free-a
 dvice-for-over-fifties-health-money-and-more
DTSTART;TZID=Europe/London:20130510T100000
DTEND;TZID=Europe/London:20130510T140000
CATEGORIES:advice
LOCATION:Ruth Winston Centre
WEBSITE:http://www.ruthwinstoncentre.com/
URL:http://www.ruthwinstoncentre.com/
CONTACT:
ORGANIZER;CN="Basil Clarke":https://bowesandbounds.org/profile/BasilCl
 arke
ATTACH;FMTTYPE="image/jpeg":http://storage.ning.com/topology/rest/1.0/
 file/get/2287247887?profile=original
ATTENDEE;ROLE=REQ-PARTICIPANT;PARTSTAT=ACCEPTED;RSVP=TRUE;CN="Basil Cl
 arke":https://bowesandbounds.org/profile/BasilClarke
END:VEVENT
END:VCALENDAR
