BEGIN:VCALENDAR
PRODID:NingEventWidget-v1
VERSION:2.0
METHOD:PUBLISH
BEGIN:VTIMEZONE
TZID:Europe/London
X-LIC-LOCATION:Europe/London
BEGIN:DAYLIGHT
TZOFFSETFROM:+0000
TZOFFSETTO:+0100
TZNAME:BST
DTSTART:19700329T010000
RRULE:FREQ=YEARLY;BYMONTH=3;BYDAY=-1SU
END:DAYLIGHT
BEGIN:STANDARD
TZOFFSETFROM:+0100
TZOFFSETTO:+0000
TZNAME:GMT
DTSTART:19701025T020000
RRULE:FREQ=YEARLY;BYMONTH=10;BYDAY=-1SU
END:STANDARD
END:VTIMEZONE
BEGIN:VEVENT
UID:6278630:Event:127136
DTSTAMP:20260426T005805Z
SUMMARY:Free Art Workshops: ‘Unconscious Biases’- with artists fro
 m Collective Exchange
DESCRIPTION:2018 marks the centenary of the Representation of the Peop
 le Act 1918 - allowing women over the age of 30 the right to vote. Thr
 ough two workshops (on 14th and 21st October), artists from Collective
  Exchange reflect on the Suffrage Movement and changing attitudes towa
 rds gender inequality since. They will kick-start the topic by investi
 gating language, specifically gender biased language, to begin an expl
 oration of women’s place in society.\nWorkshop participants will cre
 ate ‘statement badges’, using simple collage techniques, layering 
 text and images from newspapers (past and present) and social media. Y
 ou will explore how unconscious gender bias phrases are used daily, an
 d how an individual can highlight these through the process of making.
 \nSpace is limited; booking is essential. The workshops are free and o
 pen to all.\nPlease book by emailing: collectiveexchange.info@gmail.co
 m\n\nFor more information visit https://bowesandbounds.org/events/free
 -art-workshops-unconscious-biases-with-artists-from
DTSTART;TZID=Europe/London:20171014T100000
DTEND;TZID=Europe/London:20171014T123000
CATEGORIES:art, workshop, "women's", vote, suffrage, history
LOCATION:Bruce Castle Museum
WEBSITE:http://www.haringey.gov.uk/brucecastlemuseum
URL:http://www.haringey.gov.uk/brucecastlemuseum
CONTACT:020 8808 8772
ORGANIZER;CN="Deborah Hedgecock":https://bowesandbounds.org/profile/De
 borahHedgecock
ATTACH;FMTTYPE="image/jpeg":http://storage.ning.com/topology/rest/1.0/
 file/get/2287321169?profile=original
ATTENDEE;ROLE=REQ-PARTICIPANT;PARTSTAT=ACCEPTED;RSVP=TRUE;CN="Deborah 
 Hedgecock":https://bowesandbounds.org/profile/DeborahHedgecock
END:VEVENT
END:VCALENDAR
