BEGIN:VCALENDAR
PRODID:NingEventWidget-v1
VERSION:2.0
METHOD:PUBLISH
BEGIN:VTIMEZONE
TZID:Europe/London
X-LIC-LOCATION:Europe/London
BEGIN:DAYLIGHT
TZOFFSETFROM:+0000
TZOFFSETTO:+0100
TZNAME:BST
DTSTART:19700329T010000
RRULE:FREQ=YEARLY;BYMONTH=3;BYDAY=-1SU
END:DAYLIGHT
BEGIN:STANDARD
TZOFFSETFROM:+0100
TZOFFSETTO:+0000
TZNAME:GMT
DTSTART:19701025T020000
RRULE:FREQ=YEARLY;BYMONTH=10;BYDAY=-1SU
END:STANDARD
END:VTIMEZONE
BEGIN:VEVENT
UID:6278630:Event:252236
DTSTAMP:20260421T064846Z
SUMMARY:Free Badge-Making Workshop
DESCRIPTION:Â Bruce Castle Badge-Making Celebration:Â Â 50 Years of Wo
 menâ€™s Rights & Womenâ€™s LiberationÂ \nSaturday,Â December 13, Old K
 itchenÂ at Bruce Castle Museum & Archive (Drop-In, from 1 â€“Â 3:30Â P
 M)Â Â \nFREE Workshop, All AgesÂ \nÂ \nCelebrate the 50 Year Anniversa
 ry of The Sex Discrimination ActÂ andÂ Equal Pay ActÂ coming into effe
 ctÂ in 1975, with yourÂ ownÂ customizedÂ badge!Â CollageÂ usingÂ a ran
 ge of stickers andÂ photos from theÂ Bruce Castle Museum & Archive and
 Â Joyce Butler Archive, commemorating the work of local women toÂ winÂ
  equal rightsÂ across the nation.Â \nDrop by ourÂ badge-making station
  in the Old Kitchen at Bruce Castle & Museum on Saturday, December 13 
 from 1 toÂ 3:30Â PM, to make your free badge.Â \nThe dateÂ just so hap
 pens to be Joyce Butlerâ€™s birthday (1910-1992), so it will be the pe
 rfect day to celebrate her tireless campaigns for womenâ€™s rights and
  social justice more broadly.Â All agesÂ are welcome!Â \n\nFor more in
 formation visit https://bowesandbounds.org/events/free-badge-making-wo
 rkshop
DTSTART;TZID=Europe/London:20251213T130000
DTEND;TZID=Europe/London:20251213T153000
CATEGORIES:badge-making
LOCATION:Bruce Castle Museum
WEBSITE:https://www.brucecastle.org/whats-on/special-events
URL:https://www.brucecastle.org/whats-on/special-events
CONTACT:02084894250
ORGANIZER;CN="Mark Wells":https://bowesandbounds.org/profile/MarkWells
ATTACH;FMTTYPE="image/jpeg":https://storage.ning.com/topology/rest/1.0
 /file/get/31002896662?profile=original
ATTENDEE;ROLE=REQ-PARTICIPANT;PARTSTAT=ACCEPTED;RSVP=TRUE;CN="Mark Wel
 ls":https://bowesandbounds.org/profile/MarkWells
END:VEVENT
END:VCALENDAR
