BEGIN:VCALENDAR
PRODID:NingEventWidget-v1
VERSION:2.0
METHOD:PUBLISH
BEGIN:VTIMEZONE
TZID:Europe/London
X-LIC-LOCATION:Europe/London
BEGIN:DAYLIGHT
TZOFFSETFROM:+0000
TZOFFSETTO:+0100
TZNAME:BST
DTSTART:19700329T010000
RRULE:FREQ=YEARLY;BYMONTH=3;BYDAY=-1SU
END:DAYLIGHT
BEGIN:STANDARD
TZOFFSETFROM:+0100
TZOFFSETTO:+0000
TZNAME:GMT
DTSTART:19701025T020000
RRULE:FREQ=YEARLY;BYMONTH=10;BYDAY=-1SU
END:STANDARD
END:VTIMEZONE
BEGIN:VEVENT
UID:6278630:Event:130040
DTSTAMP:20260425T143143Z
SUMMARY:Free Event by Supporters of Alexandra Pk Library
DESCRIPTION:Author Greta Sykes is presenting her latest book entitled 
 \" Under Charred Skies\" and reading from it.\n\nFor more information 
 visit https://bowesandbounds.org/events/free-event-by-supporters-of-al
 exandra-pk-library
DTSTART;TZID=Europe/London:20180119T173000
DTEND;TZID=Europe/London:20180119T184500
CATEGORIES:free
LOCATION:Alexandra Park Library
WEBSITE:
URL:
CONTACT:
ORGANIZER;CN="Anna Maudar":https://bowesandbounds.org/profile/AnnaMaud
 ar
ATTACH;FMTTYPE="image/jpeg":http://storage.ning.com/topology/rest/1.0/
 file/get/2287322739?profile=original
ATTENDEE;ROLE=REQ-PARTICIPANT;PARTSTAT=ACCEPTED;RSVP=TRUE;CN="Anna Mau
 dar":https://bowesandbounds.org/profile/AnnaMaudar
END:VEVENT
END:VCALENDAR
