BEGIN:VCALENDAR
PRODID:NingEventWidget-v1
VERSION:2.0
METHOD:PUBLISH
BEGIN:VTIMEZONE
TZID:Europe/London
X-LIC-LOCATION:Europe/London
BEGIN:DAYLIGHT
TZOFFSETFROM:+0000
TZOFFSETTO:+0100
TZNAME:BST
DTSTART:19700329T010000
RRULE:FREQ=YEARLY;BYMONTH=3;BYDAY=-1SU
END:DAYLIGHT
BEGIN:STANDARD
TZOFFSETFROM:+0100
TZOFFSETTO:+0000
TZNAME:GMT
DTSTART:19701025T020000
RRULE:FREQ=YEARLY;BYMONTH=10;BYDAY=-1SU
END:STANDARD
END:VTIMEZONE
BEGIN:VEVENT
UID:6278630:Event:39792
DTSTAMP:20260424T070229Z
SUMMARY:[Free Event] World Lute Encounter - Talk & Demonstration
DESCRIPTION:Sitarist Mehboob Nadeem and Chinese lutenist (zhongruan & 
 Liuqin) Cheng-Ying Chuang Duo\nAcclaimed sitarist/vocalist Mehboob Nad
 eem and award-winning Chinese lutenist/countertenor Cheng-Ying Chuang 
 will lead audience through a musical journey through the time and spac
 e between South Asia to Far East.\nDerived from Mesopotamia, instrumen
 ts of lute family evolved into diverse physical structures and musical
  expressions under the nourishment of different cultures. Following th
 e legendary pilgrimage of Monk Xuanzang, the Chinese monk who brought 
 authentic Buddhist scriptures into China in 7 A.D., this unique collab
 oration of duo lutenists/vocalists will showcase their ancient music t
 raditions as soloists, as well as explore each other’s music backgro
 unds of Chinese classical, Indian classical and Western classical as a
  duet instrumentalists/vocalists.\nMusicians’ websites:     - Ch
 eng-Ying Chuang: www.cchuang.net     - Mehboob Nadeem: www.mehboob
 nadeem.com\nThursday 17 May 2012, 13:30 - 16:30Ming-Ai (London) Instit
 ute, 1 Cline Road, off Bounds Green Road, London N11 2LXBooking (free)
  required via email or phone:     - Liangwei Zhu: zhuliangwei@yaho
 o.co.uk , 07766 655 168     - Jue Wang: wangjuewwjj@sina.com, 0740
 1 931 687\nThis event is organised by UK Reserch and Development Centr
 e for Chinese Traditional Culture, The Global Federation of Chinese Bu
 siness Women in the UK, and Ming-Ai (London) Institute.\n\nFor more in
 formation visit https://bowesandbounds.org/events/free-event-world-lut
 e-encounter-talk-demonstration
DTSTART;TZID=Europe/London:20120517T133000
DTEND;TZID=Europe/London:20120517T163000
CATEGORIES:"free event", music, lute, "indian music", "chinese music"
LOCATION:Ming-Ai (London) Institute
WEBSITE:http://www.ming-ai.org.uk
URL:http://www.ming-ai.org.uk
CONTACT:020 8361 7161
ORGANIZER;CN="Ming-Ai (London) Institute":https://bowesandbounds.org/p
 rofile/CARRIEXU
ATTACH;FMTTYPE="image/jpeg":http://storage.ning.com/topology/rest/1.0/
 file/get/2287232841?profile=original
ATTENDEE;ROLE=REQ-PARTICIPANT;PARTSTAT=ACCEPTED;RSVP=TRUE;CN="Ming-Ai 
 (London) Institute":https://bowesandbounds.org/profile/CARRIEXU
END:VEVENT
END:VCALENDAR
