BEGIN:VCALENDAR
PRODID:NingEventWidget-v1
VERSION:2.0
METHOD:PUBLISH
BEGIN:VTIMEZONE
TZID:Europe/London
X-LIC-LOCATION:Europe/London
BEGIN:DAYLIGHT
TZOFFSETFROM:+0000
TZOFFSETTO:+0100
TZNAME:BST
DTSTART:19700329T010000
RRULE:FREQ=YEARLY;BYMONTH=3;BYDAY=-1SU
END:DAYLIGHT
BEGIN:STANDARD
TZOFFSETFROM:+0100
TZOFFSETTO:+0000
TZNAME:GMT
DTSTART:19701025T020000
RRULE:FREQ=YEARLY;BYMONTH=10;BYDAY=-1SU
END:STANDARD
END:VTIMEZONE
BEGIN:VEVENT
UID:6278630:Event:44920
DTSTAMP:20260425T050436Z
SUMMARY:Free Guided Cycle Ride around Alexandra Park
DESCRIPTION:Sky Ride Local in Haringey\n\nJoin us for an easy-going 3 
 mile route that meets at Alexandra Palace Train Station. This route is
  a gentle ride around Alexandra Park before stopping for refreshments 
 at Alexandra Palace and then continuing on our ride. This is a circula
 r route and ideal for families or anyone who wants to boost their conf
 idence on a bike.\n\nAdditional Information\nHelmets must be worn by a
 ll under 18's regardless of ride level.All ages are welcome but age 5 
 and under must be in a BSA approved child seat, trailer or tag-a-long.
  All rides leave at the time stated you must arrive early Ride Leader
 s will not wait. \n\nFor more information visit https://bowesandbound
 s.org/events/free-guided-cycle-ride-around-alexandra-park
DTSTART;TZID=Europe/London:20120819T140000
DTEND;TZID=Europe/London:20120819T151500
CATEGORIES:cycle, children, park, family
LOCATION:Alexandra Park
WEBSITE:http://www.goskyride.com/Search/Details?eventid=5851
URL:http://www.goskyride.com/Search/Details?eventid=5851
CONTACT:
ORGANIZER;CN="Stephen Middleton":https://bowesandbounds.org/profile/St
 ephenMiddleton
ATTACH;FMTTYPE="image/jpeg":http://storage.ning.com/topology/rest/1.0/
 file/get/2287236427?profile=original
ATTENDEE;ROLE=REQ-PARTICIPANT;PARTSTAT=ACCEPTED;RSVP=TRUE;CN="Stephen 
 Middleton":https://bowesandbounds.org/profile/StephenMiddleton
END:VEVENT
END:VCALENDAR
