BEGIN:VCALENDAR
PRODID:NingEventWidget-v1
VERSION:2.0
METHOD:PUBLISH
BEGIN:VTIMEZONE
TZID:Europe/London
X-LIC-LOCATION:Europe/London
BEGIN:DAYLIGHT
TZOFFSETFROM:+0000
TZOFFSETTO:+0100
TZNAME:BST
DTSTART:19700329T010000
RRULE:FREQ=YEARLY;BYMONTH=3;BYDAY=-1SU
END:DAYLIGHT
BEGIN:STANDARD
TZOFFSETFROM:+0100
TZOFFSETTO:+0000
TZNAME:GMT
DTSTART:19701025T020000
RRULE:FREQ=YEARLY;BYMONTH=10;BYDAY=-1SU
END:STANDARD
END:VTIMEZONE
BEGIN:VEVENT
UID:6278630:Event:132559
DTSTAMP:20260424T133110Z
SUMMARY:Free home energy advice evening: Hot Tips For Warm Homes
DESCRIPTION:Free home energy advice evening:Â  Â  Â  Â  Â  Â  Â  Â  Â 
  Â  Â  Â Hot Tips For Warm HomesÂ Â  Â  Â  Â  Â  Â  Â  Â  Â  Â  Â  Â  
 Â  Â  Â  Monday 15th October, 7.30pmÂ  Â  Â  Â  Â  Â  Â  Â  Â  Â  Â  Â
   Â  Â  Â  Muswell Hill Methodist Church, 28 Pages Lane N10 1PP\n\nMus
 well Hill Sustainability Group invite you to a free home energy advice
  evening.\nFind out how to get your home warm and cosy and stop wastin
 g energy and money.\nFree, practical advice from an expert.\nPlease bo
 ok online at:\nwww.mhsgroup.org/greenopenhomes\n\n\n\n\nFor more infor
 mation visit https://bowesandbounds.org/events/free-home-energy-advice
 -evening-hot-tips-for-warm-homes
DTSTART;TZID=Europe/London:20181015T193000
DTEND;TZID=Europe/London:20181015T213000
CATEGORIES:home, energy-saving, advice, event
LOCATION:Muswell Hill Methodist Church
WEBSITE:
URL:
CONTACT:07774 147296
ORGANIZER;CN="Mary Blake":https://bowesandbounds.org/profile/MaryBlake
ATTACH;FMTTYPE="image/jpeg":http://storage.ning.com/topology/rest/1.0/
 file/get/2287328851?profile=original
ATTENDEE;ROLE=REQ-PARTICIPANT;PARTSTAT=ACCEPTED;RSVP=TRUE;CN="Mary Bla
 ke":https://bowesandbounds.org/profile/MaryBlake
END:VEVENT
END:VCALENDAR
