BEGIN:VCALENDAR
PRODID:NingEventWidget-v1
VERSION:2.0
METHOD:PUBLISH
BEGIN:VTIMEZONE
TZID:Europe/London
X-LIC-LOCATION:Europe/London
BEGIN:DAYLIGHT
TZOFFSETFROM:+0000
TZOFFSETTO:+0100
TZNAME:BST
DTSTART:19700329T010000
RRULE:FREQ=YEARLY;BYMONTH=3;BYDAY=-1SU
END:DAYLIGHT
BEGIN:STANDARD
TZOFFSETFROM:+0100
TZOFFSETTO:+0000
TZNAME:GMT
DTSTART:19701025T020000
RRULE:FREQ=YEARLY;BYMONTH=10;BYDAY=-1SU
END:STANDARD
END:VTIMEZONE
BEGIN:VEVENT
UID:6278630:Event:104166
DTSTAMP:20260420T175209Z
SUMMARY:Free Karamel Kids: Chris Mayne's World of Magic
DESCRIPTION:Join us to find out just how the impossible becomes the po
 ssible!  Chris Mayne brings his colourful, humorous and fast paced mag
 ic show involving lots of audience participation to Karamel Kids. Idea
 l for all the family – don’t miss out on getting to help make and 
 see some very silly magic happen right before your eyes!\n\nFor more i
 nformation visit https://bowesandbounds.org/events/free-karamel-kids-c
 hris-mayne-s-world-of-magic
DTSTART;TZID=Europe/London:20160430T110000
DTEND;TZID=Europe/London:20160430T120000
CATEGORIES:"'free'", "'free", "event'", family, "'family", "'for", "fa
 milies'", kids, "show'", "'karamel", "kids'", "'karamel'"
LOCATION:Karamel
WEBSITE:
URL:
CONTACT:
ORGANIZER:Karamel Kids
ATTACH;FMTTYPE="image/jpeg":http://storage.ning.com/topology/rest/1.0/
 file/get/2287301829?profile=original
ATTENDEE;ROLE=REQ-PARTICIPANT;PARTSTAT=ACCEPTED;RSVP=TRUE;CN="Events a
 t Karamel":https://bowesandbounds.org/profile/PhilSherman
END:VEVENT
END:VCALENDAR
