BEGIN:VCALENDAR
PRODID:NingEventWidget-v1
VERSION:2.0
METHOD:PUBLISH
BEGIN:VTIMEZONE
TZID:Europe/London
X-LIC-LOCATION:Europe/London
BEGIN:DAYLIGHT
TZOFFSETFROM:+0000
TZOFFSETTO:+0100
TZNAME:BST
DTSTART:19700329T010000
RRULE:FREQ=YEARLY;BYMONTH=3;BYDAY=-1SU
END:DAYLIGHT
BEGIN:STANDARD
TZOFFSETFROM:+0100
TZOFFSETTO:+0000
TZNAME:GMT
DTSTART:19701025T020000
RRULE:FREQ=YEARLY;BYMONTH=10;BYDAY=-1SU
END:STANDARD
END:VTIMEZONE
BEGIN:VEVENT
UID:6278630:Event:104346
DTSTAMP:20260420T175701Z
SUMMARY:Free Karamel Kids: Farmer Who's Enormous Turnip & The Three Pi
 gs
DESCRIPTION:Farmer Who's in trouble. Because he never went to school, 
 he’s forever mistaking his horse for his cow, his pigs for his sheep
  and his carrots for his potatoes.\nThen he has a brainy-wave. He'll g
 et some really clever children to teach him! Soon, everyone’s mooing
  and baaing, digging and sowing, pulling and tugging, and reliving the
  many wonderful adventures that he and his animals have down on the fa
 rm.\n\nFor more information visit https://bowesandbounds.org/events/fr
 ee-karamel-kids-farmer-who-s-enormous-turnip-the-three-pigs
DTSTART;TZID=Europe/London:20160130T110000
DTEND;TZID=Europe/London:20160130T120000
CATEGORIES:"'free'", "'free", "event'", family, "'family", "'for", "fa
 milies'", kids, "show'", "'karamel", "kids'", "'karamel'"
LOCATION:Karamel
WEBSITE:http://karamelrestaurant.com/?p=1851
URL:http://karamelrestaurant.com/?p=1851
CONTACT:
ORGANIZER:Karamel Kids
ATTACH;FMTTYPE="image/jpeg":http://storage.ning.com/topology/rest/1.0/
 file/get/2287300209?profile=original
ATTENDEE;ROLE=REQ-PARTICIPANT;PARTSTAT=ACCEPTED;RSVP=TRUE;CN="Events a
 t Karamel":https://bowesandbounds.org/profile/PhilSherman
END:VEVENT
END:VCALENDAR
