BEGIN:VCALENDAR
PRODID:NingEventWidget-v1
VERSION:2.0
METHOD:PUBLISH
BEGIN:VTIMEZONE
TZID:Europe/London
X-LIC-LOCATION:Europe/London
BEGIN:DAYLIGHT
TZOFFSETFROM:+0000
TZOFFSETTO:+0100
TZNAME:BST
DTSTART:19700329T010000
RRULE:FREQ=YEARLY;BYMONTH=3;BYDAY=-1SU
END:DAYLIGHT
BEGIN:STANDARD
TZOFFSETFROM:+0100
TZOFFSETTO:+0000
TZNAME:GMT
DTSTART:19701025T020000
RRULE:FREQ=YEARLY;BYMONTH=10;BYDAY=-1SU
END:STANDARD
END:VTIMEZONE
BEGIN:VEVENT
UID:6278630:Event:103648
DTSTAMP:20260424T033307Z
SUMMARY:FREE Karamel Kids: Kathryn Holt - Stories and Craft
DESCRIPTION:Storyteller Kathryn Holt joins us this winter with her cos
 y and colourful Story Tent bringing traditional tales to life! Come al
 ong and take part in her highly interactive story sessions which are s
 ure to make a winter’s morning brighter. Afterwards we’ll be havin
 g a special craft workshop around the story, so you can tell the story
  at home in time for Christmas Day too.\n http://kathrynholt.com/story
 telling.php\nFree event!\n\nFor more information visit https://bowesan
 dbounds.org/events/free-karamel-kids-kathryn-holt-stories-and-craft
DTSTART;TZID=Europe/London:20151212T110000
DTEND;TZID=Europe/London:20151212T120000
CATEGORIES:"'kids", "event'", "'kids'", free, kids, "'family", "'free'
 ", "'free", family
LOCATION:Karamel
WEBSITE:
URL:
CONTACT:
ORGANIZER:Karamel Kids
ATTACH;FMTTYPE="image/jpeg":http://storage.ning.com/topology/rest/1.0/
 file/get/2287300064?profile=original
ATTENDEE;ROLE=REQ-PARTICIPANT;PARTSTAT=ACCEPTED;RSVP=TRUE;CN="Events a
 t Karamel":https://bowesandbounds.org/profile/PhilSherman
END:VEVENT
END:VCALENDAR
