BEGIN:VCALENDAR
PRODID:NingEventWidget-v1
VERSION:2.0
METHOD:PUBLISH
BEGIN:VTIMEZONE
TZID:Europe/London
X-LIC-LOCATION:Europe/London
BEGIN:DAYLIGHT
TZOFFSETFROM:+0000
TZOFFSETTO:+0100
TZNAME:BST
DTSTART:19700329T010000
RRULE:FREQ=YEARLY;BYMONTH=3;BYDAY=-1SU
END:DAYLIGHT
BEGIN:STANDARD
TZOFFSETFROM:+0100
TZOFFSETTO:+0000
TZNAME:GMT
DTSTART:19701025T020000
RRULE:FREQ=YEARLY;BYMONTH=10;BYDAY=-1SU
END:STANDARD
END:VTIMEZONE
BEGIN:VEVENT
UID:6278630:Event:237059
DTSTAMP:20260423T080252Z
SUMMARY:Free Martials Arts Classes for women (BJJ Brazilian Jiu Jitsu)
DESCRIPTION:For the month of October, Alexandra Park BJJ will be run
 ning a series of free classes for women. It is open to all practitione
 rs regardless of experience. It will cover all the basic skills and mo
 vements of Brazilian Jiu-Jitsu and more advanced techniques for those 
 with more experience. These classes are open to all women over the age
  of 16.\nOur BJJ classes enable you to develop your fitness levels, ba
 lance, coordination, and flexibility develop in a no-pressure environm
 ent and provides the opportunity to start a new sport at a reasonable 
 price with like-minded beginners.\nBrazilian Jiu-Jitsu (BJJ) is a full
 -contact martial art, combat sport, and self-defence system focusing o
 n grappling, especially ground fighting. Alexandra Park BJJ offers Bra
 zilian Jiu-Jitsu classes for all levels.\nClasses will run on Mondays,
  Thursdays and Saturdays at Alexandra Park School, Rhodes Avenue, Lond
 on, N22 7UT.\nAll Participants at Alexandra Park BJJ are expected to s
 ign up to our code of conduct and an insurance waiver.\n\nFor more inf
 ormation visit https://bowesandbounds.org/events/free-martials-arts-cl
 asses-for-women-bjj-brazilian-jiu-jitsu
DTSTART;TZID=Europe/London:20211002T130000
DTEND;TZID=Europe/London:20211030T130000
CATEGORIES:martial, arts, class
LOCATION:Alexandra Park School
WEBSITE:https://www.eventbrite.co.uk/e/free-martials-arts-classes-for-
 women-bjj-brazilian-jiu-jitsu-tickets-173293103337
URL:https://www.eventbrite.co.uk/e/free-martials-arts-classes-for-wome
 n-bjj-brazilian-jiu-jitsu-tickets-173293103337
CONTACT:
ORGANIZER;CN=n10bjj:https://bowesandbounds.org/profile/n10bjj
ATTACH;FMTTYPE="image/jpeg":https://storage.ning.com/topology/rest/1.0
 /file/get/9582589470?profile=original
ATTENDEE;ROLE=REQ-PARTICIPANT;PARTSTAT=ACCEPTED;RSVP=TRUE;CN=n10bjj:ht
 tps://bowesandbounds.org/profile/n10bjj
END:VEVENT
END:VCALENDAR
