BEGIN:VCALENDAR
PRODID:NingEventWidget-v1
VERSION:2.0
METHOD:PUBLISH
BEGIN:VTIMEZONE
TZID:Europe/London
X-LIC-LOCATION:Europe/London
BEGIN:DAYLIGHT
TZOFFSETFROM:+0000
TZOFFSETTO:+0100
TZNAME:BST
DTSTART:19700329T010000
RRULE:FREQ=YEARLY;BYMONTH=3;BYDAY=-1SU
END:DAYLIGHT
BEGIN:STANDARD
TZOFFSETFROM:+0100
TZOFFSETTO:+0000
TZNAME:GMT
DTSTART:19701025T020000
RRULE:FREQ=YEARLY;BYMONTH=10;BYDAY=-1SU
END:STANDARD
END:VTIMEZONE
BEGIN:VEVENT
UID:6278630:Event:131417
DTSTAMP:20260425T020843Z
SUMMARY:Free Salsa Workshop For Complete Beginners
DESCRIPTION:Learn the basics of LA style SALSA in this two hours free 
 salsa workshop with JAYEnjoy Dancing within the Festival of Learning 2
 018You just need to fill the festival form and signWHEN25th MAY Friday
  19:00WHERELordship Hub Co. Op.Class description:BOOKING IS REQUIREDFO
 R COMPLETE BEGINNERSADULTS ONLYNO PARTNER NEEDEDFor more information p
 lease contact JAY on 07522 318 198.\n\nFor more information visit http
 s://bowesandbounds.org/events/free-salsa-workshop-for-complete-beginne
 rs
DTSTART;TZID=Europe/London:20180525T190000
DTEND;TZID=Europe/London:20180525T210000
CATEGORIES:dance, lessons
LOCATION:Lordship Hub
WEBSITE:https://www.jayjaydance.com/learningfest2018
URL:https://www.jayjaydance.com/learningfest2018
CONTACT:05356854792
ORGANIZER;CN="ceyhun burat":https://bowesandbounds.org/profile/ceyhunb
 urat
ATTACH;FMTTYPE="image/jpeg":http://storage.ning.com/topology/rest/1.0/
 file/get/2287327737?profile=original
ATTENDEE;ROLE=REQ-PARTICIPANT;PARTSTAT=ACCEPTED;RSVP=TRUE;CN="ceyhun b
 urat":https://bowesandbounds.org/profile/ceyhunburat
END:VEVENT
END:VCALENDAR
