BEGIN:VCALENDAR
PRODID:NingEventWidget-v1
VERSION:2.0
METHOD:PUBLISH
BEGIN:VTIMEZONE
TZID:Europe/London
X-LIC-LOCATION:Europe/London
BEGIN:DAYLIGHT
TZOFFSETFROM:+0000
TZOFFSETTO:+0100
TZNAME:BST
DTSTART:19700329T010000
RRULE:FREQ=YEARLY;BYMONTH=3;BYDAY=-1SU
END:DAYLIGHT
BEGIN:STANDARD
TZOFFSETFROM:+0100
TZOFFSETTO:+0000
TZNAME:GMT
DTSTART:19701025T020000
RRULE:FREQ=YEARLY;BYMONTH=10;BYDAY=-1SU
END:STANDARD
END:VTIMEZONE
BEGIN:VEVENT
UID:6278630:Event:71485
DTSTAMP:20260422T000352Z
SUMMARY:Freelance Friday II
DESCRIPTION:Freelance, part time or work from home? Or involved with a
  local small business? We're having another \"Freelance Friday\" gathe
 ring at The Step. \nLots of folk turned out for the first one and car
 ds were exchanged, neighbours met and new contacts made.\nCome and mee
 t other local people who don't keep traditional office hours and miss 
 out on the opportunity for a water-cooler moment during their working 
 day. \n\nFor more information visit https://bowesandbounds.org/events
 /freelance-friday-ii
DTSTART;TZID=Europe/London:20140131T160000
DTEND;TZID=Europe/London:20140131T180000
CATEGORIES:meet, up
LOCATION:The Step
WEBSITE:http://www.thestep.co.uk/
URL:http://www.thestep.co.uk/
CONTACT:
ORGANIZER;CN="Lindsey Berthoud":https://bowesandbounds.org/profile/Lin
 dseyClarke
ATTACH;FMTTYPE="image/jpeg":http://storage.ning.com/topology/rest/1.0/
 file/get/2287261794?profile=original
ATTENDEE;ROLE=REQ-PARTICIPANT;PARTSTAT=ACCEPTED;RSVP=TRUE;CN="Richard 
 McKeever":https://bowesandbounds.org/profile/3hwxkqhdde8gc
ATTENDEE;ROLE=REQ-PARTICIPANT;PARTSTAT=ACCEPTED;RSVP=TRUE;CN="Sureka F
 ernando":https://bowesandbounds.org/profile/SurekaFernando
ATTENDEE;ROLE=REQ-PARTICIPANT;PARTSTAT=ACCEPTED;RSVP=TRUE;CN="Lindsey 
 Berthoud":https://bowesandbounds.org/profile/LindseyClarke
ATTENDEE;ROLE=REQ-PARTICIPANT;PARTSTAT=TENTATIVE;RSVP=TRUE;CN="Ashleen
 a Deike":https://bowesandbounds.org/profile/AshleenaDeike
ATTENDEE;ROLE=REQ-PARTICIPANT;PARTSTAT=TENTATIVE;RSVP=TRUE;CN="Sophia 
 Lind":https://bowesandbounds.org/profile/SophiaLind
ATTENDEE;ROLE=REQ-PARTICIPANT;PARTSTAT=TENTATIVE;RSVP=TRUE;CN="Paul Fl
 avell":https://bowesandbounds.org/profile/PaulFlavell244
END:VEVENT
END:VCALENDAR
