BEGIN:VCALENDAR
PRODID:NingEventWidget-v1
VERSION:2.0
METHOD:PUBLISH
BEGIN:VTIMEZONE
TZID:Europe/London
X-LIC-LOCATION:Europe/London
BEGIN:DAYLIGHT
TZOFFSETFROM:+0000
TZOFFSETTO:+0100
TZNAME:BST
DTSTART:19700329T010000
RRULE:FREQ=YEARLY;BYMONTH=3;BYDAY=-1SU
END:DAYLIGHT
BEGIN:STANDARD
TZOFFSETFROM:+0100
TZOFFSETTO:+0000
TZNAME:GMT
DTSTART:19701025T020000
RRULE:FREQ=YEARLY;BYMONTH=10;BYDAY=-1SU
END:STANDARD
END:VTIMEZONE
BEGIN:VEVENT
UID:6278630:Event:61082
DTSTAMP:20260419T152023Z
SUMMARY:Friends of Alexandra Park Moth Identification Evening
DESCRIPTION:Michael Hammerson of the Highgate Society will set up a
  moth trap in Alexandra Park on the Tuesday evening.   On Wednesday e
 vening he will give a talk on the moths that were found, with some of 
 his pictures. Then he will show us the moths that have been captured (
 not killed !) and afterwards we will all have a chance to let them f
 ly away.\nTo book a free place at the Information Centre in The Grove 
 please email  with contact details as event will not take place if we
 ather is rainy on the Tuesday night. Allyparkn10@gmail.com\n\nFor mor
 e information visit https://bowesandbounds.org/events/friends-of-alexa
 ndra-park-moth-identification-evening
DTSTART;TZID=Europe/London:20130626T190000
DTEND;TZID=Europe/London:20130626T200000
CATEGORIES:talk, moth, insect, friends, of, park, "ally pally"
LOCATION:Alexandra Park
WEBSITE:http://www.friendsofalexandrapark.org/
URL:http://www.friendsofalexandrapark.org/
CONTACT:
ORGANIZER;CN="Stephen Middleton":https://bowesandbounds.org/profile/St
 ephenMiddleton
ATTACH;FMTTYPE="image/jpeg":http://storage.ning.com/topology/rest/1.0/
 file/get/2287252253?profile=original
ATTENDEE;ROLE=REQ-PARTICIPANT;PARTSTAT=ACCEPTED;RSVP=TRUE;CN="Stephen 
 Middleton":https://bowesandbounds.org/profile/StephenMiddleton
END:VEVENT
END:VCALENDAR
