BEGIN:VCALENDAR
PRODID:NingEventWidget-v1
VERSION:2.0
METHOD:PUBLISH
BEGIN:VTIMEZONE
TZID:Europe/London
X-LIC-LOCATION:Europe/London
BEGIN:DAYLIGHT
TZOFFSETFROM:+0000
TZOFFSETTO:+0100
TZNAME:BST
DTSTART:19700329T010000
RRULE:FREQ=YEARLY;BYMONTH=3;BYDAY=-1SU
END:DAYLIGHT
BEGIN:STANDARD
TZOFFSETFROM:+0100
TZOFFSETTO:+0000
TZNAME:GMT
DTSTART:19701025T020000
RRULE:FREQ=YEARLY;BYMONTH=10;BYDAY=-1SU
END:STANDARD
END:VTIMEZONE
BEGIN:VEVENT
UID:6278630:Event:58200
DTSTAMP:20260425T152227Z
SUMMARY:Friends of Broomfield Park Open Meeting
DESCRIPTION:Open meeting on Wednesday 8th May, 7.30 â€“ 9.30 pm Venue:
  Ruth Winston Centre, 190 Green Lanes, N13 5UE\nCome along to hear abo
 ut The Friends Group plans for the year, contribute your ideas and joi
 n in to help deliver them.Â \nAgenda1. Chairman's WelcomeÂ Â  Introduc
 tion of the Committee following the AGM2. Update from the Parks Police
 3. Condition of the ParkÂ  Â  Main issues and responses from the Parks
  Team4. ProjectsÂ Â Â  Photo competition!! Winner and runners up areâ€
 ¦Â Â Â  ConservatoryÂ Â Â  Planting projectsÂ Â Â  OrchardÂ  Â  Palmer
 s Greenery cafÃ©Â Â Â  Love Parks week 27/7 to 4/85. Broomfield HouseÂ
  Â Â  What next?6. Questions and Answers7Â  Any other businessÂ  Â  Be
 come a member or make a donation!Â  Â  New projects â€“ need volunteer
 s to fund raise\nFor more information and details of how to join, visi
 t the Friends of Broomfield Park website\n\nFor more information visit
  https://bowesandbounds.org/events/friends-of-broomfield-park-open-mee
 ting-3
DTSTART;TZID=Europe/London:20130508T193000
DTEND;TZID=Europe/London:20130508T213000
CATEGORIES:"public meeting", "broomfield park"
LOCATION:\"Ruth Winston Centre\"
WEBSITE:http://www.ruthwinstoncentre.co.uk/Finding_Us.php
URL:http://www.ruthwinstoncentre.co.uk/Finding_Us.php
CONTACT:
ORGANIZER:Friends of Broomfield Park
ATTACH;FMTTYPE="image/jpeg":http://storage.ning.com/topology/rest/1.0/
 file/get/2287223815?profile=original
ATTENDEE;ROLE=REQ-PARTICIPANT;PARTSTAT=ACCEPTED;RSVP=TRUE;CN=Administr
 ator:https://bowesandbounds.org/profile/Administrator
END:VEVENT
END:VCALENDAR
