BEGIN:VCALENDAR
PRODID:NingEventWidget-v1
VERSION:2.0
METHOD:PUBLISH
BEGIN:VTIMEZONE
TZID:Europe/London
X-LIC-LOCATION:Europe/London
BEGIN:DAYLIGHT
TZOFFSETFROM:+0000
TZOFFSETTO:+0100
TZNAME:BST
DTSTART:19700329T010000
RRULE:FREQ=YEARLY;BYMONTH=3;BYDAY=-1SU
END:DAYLIGHT
BEGIN:STANDARD
TZOFFSETFROM:+0100
TZOFFSETTO:+0000
TZNAME:GMT
DTSTART:19701025T020000
RRULE:FREQ=YEARLY;BYMONTH=10;BYDAY=-1SU
END:STANDARD
END:VTIMEZONE
BEGIN:VEVENT
UID:6278630:Event:72784
DTSTAMP:20260425T152139Z
SUMMARY:Friends of Broomfield Park Open Meeting
DESCRIPTION:Open meeting on Wednesday 26th February, 7.30 – 9.30 pm 
 Venue: Ruth Winston Centre, 190 Green Lanes, N13 5UE\nCome along to he
 ar about The Friends Group plans for the year, contribute your ideas a
 nd join in to help deliver them. \nAgenda items will include:\n\nAn u
 pdate from the Parks Police\nPlans to plant a wild flower meadow\nProg
 ress of the Greenery Community Cafe project\nWhat to do with the bowli
 ng green and club\nImprovements to the Garden of Remembrance in the WW
 I Centenary Year\nUpdates on the Conservatory, Orchard and Native Hedg
 e projects\n\n\n\nFor more information and details of how to join, vis
 it the Friends of Broomfield Park website.\n\nFor more information vis
 it https://bowesandbounds.org/events/friends-of-broomfield-park-open-m
 eeting-4
DTSTART;TZID=Europe/London:20140226T193000
DTEND;TZID=Europe/London:20140226T213000
CATEGORIES:"public meeting", "broomfield park"
LOCATION:\"Ruth Winston Centre\"
WEBSITE:http://www.ruthwinstoncentre.co.uk/Finding_Us.php
URL:http://www.ruthwinstoncentre.co.uk/Finding_Us.php
CONTACT:
ORGANIZER:Friends of Broomfield Park
ATTACH;FMTTYPE="image/jpeg":http://storage.ning.com/topology/rest/1.0/
 file/get/2287223815?profile=original
ATTENDEE;ROLE=REQ-PARTICIPANT;PARTSTAT=ACCEPTED;RSVP=TRUE;CN=Administr
 ator:https://bowesandbounds.org/profile/Administrator
END:VEVENT
END:VCALENDAR
